View In:
ArcGIS JavaScript
ArcGIS Online Map Viewer
ArcGIS Earth
ArcMap
View Footprint In:
ArcGIS Online Map Viewer
Service Description: Imagery service created from drone based data collected for the SCC Watershed Project
Name: SCCWatershed/StPetersHowell_DroneImagery2025
Description: Imagery service created from drone based data collected for the SCC Watershed Project
Single Fused Map Cache: false
Extent:
XMin: 786485.0631565424
YMin: 1059318.0825167187
XMax: 795314.9631565424
YMax: 1065300.5825167187
Spatial Reference: 102696
(102696)
VCSWkid(105703)
LatestVCSWkid(6360)
Initial Extent:
XMin: 786485.0631565424
YMin: 1059318.0825167187
XMax: 795314.9631565424
YMax: 1065300.5825167187
Spatial Reference: 102696
(102696)
VCSWkid(105703)
LatestVCSWkid(6360)
Full Extent:
XMin: 786485.0631565424
YMin: 1059318.0825167187
XMax: 795314.9631565424
YMax: 1065300.5825167187
Spatial Reference: 102696
(102696)
VCSWkid(105703)
LatestVCSWkid(6360)
Pixel Size X: 0.10000000000000027
Pixel Size Y: 0.1
Band Count: 4
Pixel Type: U8
RasterFunction Infos: {"rasterFunctionInfos": [{
"name": "None",
"description": "",
"help": ""
}]}
Mensuration Capabilities: Basic
Has Histograms: true
Has Colormap: false
Has Multi Dimensions : false
Rendering Rule:
Min Scale: 0
Max Scale: 0
Copyright Text: Zach Lawrence
Service Data Type: esriImageServiceDataTypeGeneric
Min Values: 1, 1, 1, 1
Max Values: 255, 255, 255, 255
Mean Values: 120.334930719, 117.60732142425, 105.92439743564, 254.95308031646
Standard Deviation Values: 56.435472728314, 51.920265960273, 52.326866139024, 3.2768544083776
Object ID Field:
Fields:
None
Default Mosaic Method: Center
Allowed Mosaic Methods:
SortField:
SortValue: null
Mosaic Operator: First
Default Compression Quality: 75
Default Resampling Method: Bilinear
Max Record Count: null
Max Image Height: 4100
Max Image Width: 15000
Max Download Image Count: null
Max Mosaic Image Count: null
Allow Raster Function: true
Allow Copy: null
Allow Analysis: null
Allow Compute TiePoints: false
Supports Statistics: false
Supports Advanced Queries: false
Use StandardizedQueries: true
Raster Type Infos:
Name: Raster Dataset
Description: Supports all ArcGIS Raster Datasets
Help:
Has Raster Attribute Table: false
Edit Fields Info: null
Ownership Based AccessControl For Rasters: null
Child Resources:
Info
Histograms
Key Properties
Legend
Raster Function Infos
Supported Operations:
Export Image
Identify
Measure
Compute Histograms
Compute Statistics Histograms
Get Samples
Compute Class Statistics
Query Boundary
Compute Pixel Location
Validate
Project