{
 "currentVersion": 10.81,
 "serviceDescription": "Imagery service created from drone based data collected for the SCC Watershed Project",
 "name": "SCCWatershed/StPetersHowell_DroneImagery2025",
 "description": "Imagery service created from drone based data collected for the SCC Watershed Project",
 "extent": {
  "xmin": 786485.0631565424,
  "ymin": 1059318.0825167187,
  "xmax": 795314.9631565424,
  "ymax": 1065300.5825167187,
  "spatialReference": {
   "wkid": 102696,
   "latestWkid": 102696,
   "vcsWkid": 105703,
   "latestVcsWkid": 6360
  }
 },
 "initialExtent": {
  "xmin": 786485.0631565424,
  "ymin": 1059318.0825167187,
  "xmax": 795314.9631565424,
  "ymax": 1065300.5825167187,
  "spatialReference": {
   "wkid": 102696,
   "latestWkid": 102696,
   "vcsWkid": 105703,
   "latestVcsWkid": 6360
  }
 },
 "fullExtent": {
  "xmin": 786485.0631565424,
  "ymin": 1059318.0825167187,
  "xmax": 795314.9631565424,
  "ymax": 1065300.5825167187,
  "spatialReference": {
   "wkid": 102696,
   "latestWkid": 102696,
   "vcsWkid": 105703,
   "latestVcsWkid": 6360
  }
 },
 "heightModelInfo": {
  "heightModel": "gravity_related_height",
  "vertCRS": "NAVD88_height_(ftUS)",
  "heightUnit": "us-foot"
 },
 "pixelSizeX": 0.10000000000000027,
 "pixelSizeY": 0.1,
 "bandCount": 4,
 "pixelType": "U8",
 "minPixelSize": 0,
 "maxPixelSize": 0,
 "copyrightText": "Zach Lawrence",
 "serviceDataType": "esriImageServiceDataTypeGeneric",
 "minValues": [
  1,
  1,
  1,
  1
 ],
 "maxValues": [
  255,
  255,
  255,
  255
 ],
 "meanValues": [
  120.334930719,
  117.60732142425,
  105.92439743564,
  254.95308031646
 ],
 "stdvValues": [
  56.435472728314,
  51.920265960273,
  52.326866139024,
  3.2768544083776
 ],
 "objectIdField": "",
 "fields": [],
 "capabilities": "Image,Metadata,Mensuration",
 "defaultMosaicMethod": "Center",
 "allowedMosaicMethods": "",
 "sortField": "",
 "sortValue": null,
 "sortAscending": true,
 "mosaicOperator": "First",
 "defaultCompressionQuality": 75,
 "defaultResamplingMethod": "Bilinear",
 "maxImageHeight": 4100,
 "maxImageWidth": 15000,
 "allowRasterFunction": true,
 "rasterFunctionInfos": [
  {
   "name": "None",
   "description": "",
   "help": ""
  }
 ],
 "rasterTypeInfos": [
  {
   "name": "Raster Dataset",
   "description": "Supports all ArcGIS Raster Datasets",
   "help": ""
  }
 ],
 "mensurationCapabilities": "Basic",
 "hasHistograms": true,
 "hasColormap": false,
 "hasRasterAttributeTable": false,
 "minScale": 0,
 "maxScale": 0,
 "exportTilesAllowed": false,
 "hasMultidimensions": false,
 "supportsStatistics": false,
 "supportsAdvancedQueries": false,
 "editFieldsInfo": null,
 "ownershipBasedAccessControlForRasters": null,
 "allowComputeTiePoints": false,
 "useStandardizedQueries": true,
 "advancedQueryCapabilities": {
  "useStandardizedQueries": true,
  "supportsStatistics": false,
  "supportsOrderBy": false,
  "supportsDistinct": false,
  "supportsPagination": false
 },
 "spatialReference": {
  "wkid": 102696,
  "latestWkid": 102696,
  "vcsWkid": 105703,
  "latestVcsWkid": 6360
 }
}
