View In:
ArcGIS JavaScript
ArcGIS Online Map Viewer
ArcGIS Earth
ArcMap
View Footprint In:
ArcGIS Online Map Viewer
Service Description: 2020 OSIP Base Digital Orthoimagery Project – The OSIP project is divided into four (4) project areas. Area 1 is the northeast zone and performed in 2017. Area 2 is the western zone and performed in 2018. Area 3 is the central zone and performed in 2019. Area 4 is the southeast zone and performed in 2020.
The new 3-band orthoimagery will encompass the entire land area of the State of Ohio (+/- 41,276 square miles). The tile border will be 1,000 feet beyond the state boundary with the following exceptions. The tile border with the states of Kentucky and West Virginia along the Ohio River shall be buffered a minimum distance of 1,000 feet or to the opposite river bank, whichever distance is greater. Border areas of the State proximate to Lake Erie, as well as islands, shall be buffered beyond the shoreline a minimum distance of 2,500 feet.
The aerial imagery was collected during leaf-off conditions at a minimum resolution of 0.5-foot. The orthos are delivered as countywide datasets, consisting of 5,000' x 5,000' uncompressed 8-bit, 3-band color geotiff files. Adjacent flight lines overlap by an average of 30 percent. Imagery was collected with VisionMap A3 Edge digital camera systems and rectified using existing lidar data. The file naming convention is as follows: nxxxxyyy (Ohio North Zone) and sxxxxyyy (Ohio South Zone); Please note that xxxx and yyy represent the easting and northing coordinates (respectively) in state plane feet. The naming convention is based upon the previous OSIP project. Ownership of the data products resides with OGRIP and the state of Ohio. Orthoimagery and ancillary data products produced through this contract are public domain data.
Name: PikeCountyOH/PikeCountyOH_2021_Imagery
Description: 2020 OSIP Base Digital Orthoimagery Project – The OSIP project is divided into four (4) project areas. Area 1 is the northeast zone and performed in 2017. Area 2 is the western zone and performed in 2018. Area 3 is the central zone and performed in 2019. Area 4 is the southeast zone and performed in 2020.
The new 3-band orthoimagery will encompass the entire land area of the State of Ohio (+/- 41,276 square miles). The tile border will be 1,000 feet beyond the state boundary with the following exceptions. The tile border with the states of Kentucky and West Virginia along the Ohio River shall be buffered a minimum distance of 1,000 feet or to the opposite river bank, whichever distance is greater. Border areas of the State proximate to Lake Erie, as well as islands, shall be buffered beyond the shoreline a minimum distance of 2,500 feet.
The aerial imagery was collected during leaf-off conditions at a minimum resolution of 0.5-foot. The orthos are delivered as countywide datasets, consisting of 5,000' x 5,000' uncompressed 8-bit, 3-band color geotiff files. Adjacent flight lines overlap by an average of 30 percent. Imagery was collected with VisionMap A3 Edge digital camera systems and rectified using existing lidar data. The file naming convention is as follows: nxxxxyyy (Ohio North Zone) and sxxxxyyy (Ohio South Zone); Please note that xxxx and yyy represent the easting and northing coordinates (respectively) in state plane feet. The naming convention is based upon the previous OSIP project. Ownership of the data products resides with OGRIP and the state of Ohio. Orthoimagery and ancillary data products produced through this contract are public domain data.
Single Fused Map Cache: false
Extent:
XMin: 1715000
YMin: 345000
XMax: 1890000
YMax: 440000
Spatial Reference: PROJCS["NAD_1983_HARN_StatePlane_Ohio_South_FIPS_3402_Feet",GEOGCS["GCS_North_American_1983_HARN",DATUM["D_NAD83_High_Accuracy_Reference_Network",SPHEROID["GRS_1980",6378137.0,298.257222101]],PRIMEM["Greenwich",0.0],UNIT["Degree",0.0174532925199433]],PROJECTION["Lambert_Conformal_Conic"],PARAMETER["false_easting",1968500.0],PARAMETER["false_northing",0.0],PARAMETER["central_meridian",-82.5],PARAMETER["standard_parallel_1",38.73333333333333],PARAMETER["standard_parallel_2",40.03333333333333],PARAMETER["latitude_of_origin",38.0],UNIT["Foot_US",0.3048006096012192]]
Initial Extent:
XMin: 1715000
YMin: 345000
XMax: 1890000
YMax: 440000
Spatial Reference: PROJCS["NAD_1983_HARN_StatePlane_Ohio_South_FIPS_3402_Feet",GEOGCS["GCS_North_American_1983_HARN",DATUM["D_NAD83_High_Accuracy_Reference_Network",SPHEROID["GRS_1980",6378137.0,298.257222101]],PRIMEM["Greenwich",0.0],UNIT["Degree",0.0174532925199433]],PROJECTION["Lambert_Conformal_Conic"],PARAMETER["false_easting",1968500.0],PARAMETER["false_northing",0.0],PARAMETER["central_meridian",-82.5],PARAMETER["standard_parallel_1",38.73333333333333],PARAMETER["standard_parallel_2",40.03333333333333],PARAMETER["latitude_of_origin",38.0],UNIT["Foot_US",0.3048006096012192]]
Full Extent:
XMin: 1715000
YMin: 345000
XMax: 1890000
YMax: 440000
Spatial Reference: PROJCS["NAD_1983_HARN_StatePlane_Ohio_South_FIPS_3402_Feet",GEOGCS["GCS_North_American_1983_HARN",DATUM["D_NAD83_High_Accuracy_Reference_Network",SPHEROID["GRS_1980",6378137.0,298.257222101]],PRIMEM["Greenwich",0.0],UNIT["Degree",0.0174532925199433]],PROJECTION["Lambert_Conformal_Conic"],PARAMETER["false_easting",1968500.0],PARAMETER["false_northing",0.0],PARAMETER["central_meridian",-82.5],PARAMETER["standard_parallel_1",38.73333333333333],PARAMETER["standard_parallel_2",40.03333333333333],PARAMETER["latitude_of_origin",38.0],UNIT["Foot_US",0.3048006096012192]]
Pixel Size X: 0.5
Pixel Size Y: 0.5
Band Count: 3
Pixel Type: U8
RasterFunction Infos: {"rasterFunctionInfos": [{
"name": "None",
"description": "",
"help": ""
}]}
Mensuration Capabilities: Basic
Has Histograms: true
Has Colormap: false
Has Multi Dimensions : false
Rendering Rule:
Min Scale: 0
Max Scale: 0
Copyright Text:
Service Data Type: esriImageServiceDataTypeRGB
Min Values: 37, 35, 19
Max Values: 255, 255, 255
Mean Values: 122.41415141019, 114.04601682335, 101.37481444829
Standard Deviation Values: 61.840089045831, 65.353451229055, 70.521909517165
Object ID Field:
Fields:
None
Default Mosaic Method: Center
Allowed Mosaic Methods:
SortField:
SortValue: null
Mosaic Operator: First
Default Compression Quality: 75
Default Resampling Method: Bilinear
Max Record Count: null
Max Image Height: 4100
Max Image Width: 15000
Max Download Image Count: null
Max Mosaic Image Count: null
Allow Raster Function: true
Allow Copy: null
Allow Analysis: null
Allow Compute TiePoints: false
Supports Statistics: false
Supports Advanced Queries: false
Use StandardizedQueries: true
Raster Type Infos:
Name: Raster Dataset
Description: Supports all ArcGIS Raster Datasets
Help:
Has Raster Attribute Table: false
Edit Fields Info: null
Ownership Based AccessControl For Rasters: null
Child Resources:
Info
Histograms
Key Properties
Legend
Raster Function Infos
Supported Operations:
Export Image
Identify
Measure
Compute Histograms
Compute Statistics Histograms
Get Samples
Compute Class Statistics
Query Boundary
Compute Pixel Location
Validate
Project