{
 "currentVersion": 10.81,
 "serviceDescription": "2020 OSIP Base Digital Orthoimagery Project \u2013 \n The OSIP project is divided into four (4) project areas. Area 1 is the northeast zone and performed in 2017. Area 2 is the western zone and performed in 2018. Area 3 is the central zone and performed in 2019. Area 4 is the southeast zone and performed in 2020.\n The new 3-band orthoimagery will encompass the entire land area of the State of Ohio (+/- 41,276 square miles). The tile border will be 1,000 feet beyond the state boundary with the following exceptions. The tile border with the states of Kentucky and West Virginia along the Ohio River shall be buffered a minimum distance of 1,000 feet or to the opposite river bank, whichever distance is greater. Border areas of the State proximate to Lake Erie, as well as islands, shall be buffered beyond the shoreline a minimum distance of 2,500 feet.\n The aerial imagery was collected during leaf-off conditions at a minimum resolution of 0.5-foot. The orthos are delivered as countywide datasets, consisting of 5,000' x 5,000' uncompressed 8-bit, 3-band color geotiff files. Adjacent flight lines overlap by an average of 30 percent. Imagery was collected with VisionMap A3 Edge digital camera systems and rectified using existing lidar data. The file naming convention is as follows: nxxxxyyy (Ohio North Zone) and sxxxxyyy (Ohio South Zone); Please note that xxxx and yyy represent the easting and northing coordinates (respectively) in state plane feet. The naming convention is based upon the previous OSIP project. Ownership of the data products resides with OGRIP and the state of Ohio. Orthoimagery and ancillary data products produced through this contract are public domain data.",
 "name": "PikeCountyOH/PikeCountyOH_2021_Imagery",
 "description": "2020 OSIP Base Digital Orthoimagery Project \u2013 \n The OSIP project is divided into four (4) project areas. Area 1 is the northeast zone and performed in 2017. Area 2 is the western zone and performed in 2018. Area 3 is the central zone and performed in 2019. Area 4 is the southeast zone and performed in 2020.\n The new 3-band orthoimagery will encompass the entire land area of the State of Ohio (+/- 41,276 square miles). The tile border will be 1,000 feet beyond the state boundary with the following exceptions. The tile border with the states of Kentucky and West Virginia along the Ohio River shall be buffered a minimum distance of 1,000 feet or to the opposite river bank, whichever distance is greater. Border areas of the State proximate to Lake Erie, as well as islands, shall be buffered beyond the shoreline a minimum distance of 2,500 feet.\n The aerial imagery was collected during leaf-off conditions at a minimum resolution of 0.5-foot. The orthos are delivered as countywide datasets, consisting of 5,000' x 5,000' uncompressed 8-bit, 3-band color geotiff files. Adjacent flight lines overlap by an average of 30 percent. Imagery was collected with VisionMap A3 Edge digital camera systems and rectified using existing lidar data. The file naming convention is as follows: nxxxxyyy (Ohio North Zone) and sxxxxyyy (Ohio South Zone); Please note that xxxx and yyy represent the easting and northing coordinates (respectively) in state plane feet. The naming convention is based upon the previous OSIP project. Ownership of the data products resides with OGRIP and the state of Ohio. Orthoimagery and ancillary data products produced through this contract are public domain data.",
 "extent": {
  "xmin": 1715000,
  "ymin": 345000,
  "xmax": 1890000,
  "ymax": 440000,
  "spatialReference": {
   "wkt": "PROJCS[\"NAD_1983_HARN_StatePlane_Ohio_South_FIPS_3402_Feet\",GEOGCS[\"GCS_North_American_1983_HARN\",DATUM[\"D_NAD83_High_Accuracy_Reference_Network\",SPHEROID[\"GRS_1980\",6378137.0,298.257222101]],PRIMEM[\"Greenwich\",0.0],UNIT[\"Degree\",0.0174532925199433]],PROJECTION[\"Lambert_Conformal_Conic\"],PARAMETER[\"false_easting\",1968500.0],PARAMETER[\"false_northing\",0.0],PARAMETER[\"central_meridian\",-82.5],PARAMETER[\"standard_parallel_1\",38.73333333333333],PARAMETER[\"standard_parallel_2\",40.03333333333333],PARAMETER[\"latitude_of_origin\",38.0],UNIT[\"Foot_US\",0.3048006096012192]]"
  }
 },
 "initialExtent": {
  "xmin": 1715000,
  "ymin": 345000,
  "xmax": 1890000,
  "ymax": 440000,
  "spatialReference": {
   "wkt": "PROJCS[\"NAD_1983_HARN_StatePlane_Ohio_South_FIPS_3402_Feet\",GEOGCS[\"GCS_North_American_1983_HARN\",DATUM[\"D_NAD83_High_Accuracy_Reference_Network\",SPHEROID[\"GRS_1980\",6378137.0,298.257222101]],PRIMEM[\"Greenwich\",0.0],UNIT[\"Degree\",0.0174532925199433]],PROJECTION[\"Lambert_Conformal_Conic\"],PARAMETER[\"false_easting\",1968500.0],PARAMETER[\"false_northing\",0.0],PARAMETER[\"central_meridian\",-82.5],PARAMETER[\"standard_parallel_1\",38.73333333333333],PARAMETER[\"standard_parallel_2\",40.03333333333333],PARAMETER[\"latitude_of_origin\",38.0],UNIT[\"Foot_US\",0.3048006096012192]]"
  }
 },
 "fullExtent": {
  "xmin": 1715000,
  "ymin": 345000,
  "xmax": 1890000,
  "ymax": 440000,
  "spatialReference": {
   "wkt": "PROJCS[\"NAD_1983_HARN_StatePlane_Ohio_South_FIPS_3402_Feet\",GEOGCS[\"GCS_North_American_1983_HARN\",DATUM[\"D_NAD83_High_Accuracy_Reference_Network\",SPHEROID[\"GRS_1980\",6378137.0,298.257222101]],PRIMEM[\"Greenwich\",0.0],UNIT[\"Degree\",0.0174532925199433]],PROJECTION[\"Lambert_Conformal_Conic\"],PARAMETER[\"false_easting\",1968500.0],PARAMETER[\"false_northing\",0.0],PARAMETER[\"central_meridian\",-82.5],PARAMETER[\"standard_parallel_1\",38.73333333333333],PARAMETER[\"standard_parallel_2\",40.03333333333333],PARAMETER[\"latitude_of_origin\",38.0],UNIT[\"Foot_US\",0.3048006096012192]]"
  }
 },
 "pixelSizeX": 0.5,
 "pixelSizeY": 0.5,
 "bandCount": 3,
 "pixelType": "U8",
 "minPixelSize": 0,
 "maxPixelSize": 0,
 "copyrightText": "",
 "serviceDataType": "esriImageServiceDataTypeRGB",
 "minValues": [
  37,
  35,
  19
 ],
 "maxValues": [
  255,
  255,
  255
 ],
 "meanValues": [
  122.41415141019,
  114.04601682335,
  101.37481444829
 ],
 "stdvValues": [
  61.840089045831,
  65.353451229055,
  70.521909517165
 ],
 "objectIdField": "",
 "fields": [],
 "capabilities": "Mensuration,Image,Metadata",
 "defaultMosaicMethod": "Center",
 "allowedMosaicMethods": "",
 "sortField": "",
 "sortValue": null,
 "sortAscending": true,
 "mosaicOperator": "First",
 "defaultCompressionQuality": 75,
 "defaultResamplingMethod": "Bilinear",
 "maxImageHeight": 4100,
 "maxImageWidth": 15000,
 "allowRasterFunction": true,
 "rasterFunctionInfos": [
  {
   "name": "None",
   "description": "",
   "help": ""
  }
 ],
 "rasterTypeInfos": [
  {
   "name": "Raster Dataset",
   "description": "Supports all ArcGIS Raster Datasets",
   "help": ""
  }
 ],
 "mensurationCapabilities": "Basic",
 "hasHistograms": true,
 "hasColormap": false,
 "hasRasterAttributeTable": false,
 "minScale": 0,
 "maxScale": 0,
 "exportTilesAllowed": false,
 "hasMultidimensions": false,
 "supportsStatistics": false,
 "supportsAdvancedQueries": false,
 "editFieldsInfo": null,
 "ownershipBasedAccessControlForRasters": null,
 "allowComputeTiePoints": false,
 "useStandardizedQueries": true,
 "advancedQueryCapabilities": {
  "useStandardizedQueries": true,
  "supportsStatistics": false,
  "supportsOrderBy": false,
  "supportsDistinct": false,
  "supportsPagination": false
 },
 "spatialReference": {
  "wkt": "PROJCS[\"NAD_1983_HARN_StatePlane_Ohio_South_FIPS_3402_Feet\",GEOGCS[\"GCS_North_American_1983_HARN\",DATUM[\"D_NAD83_High_Accuracy_Reference_Network\",SPHEROID[\"GRS_1980\",6378137.0,298.257222101]],PRIMEM[\"Greenwich\",0.0],UNIT[\"Degree\",0.0174532925199433]],PROJECTION[\"Lambert_Conformal_Conic\"],PARAMETER[\"false_easting\",1968500.0],PARAMETER[\"false_northing\",0.0],PARAMETER[\"central_meridian\",-82.5],PARAMETER[\"standard_parallel_1\",38.73333333333333],PARAMETER[\"standard_parallel_2\",40.03333333333333],PARAMETER[\"latitude_of_origin\",38.0],UNIT[\"Foot_US\",0.3048006096012192]]"
 }
}
