View In:
ArcGIS JavaScript
ArcGIS Online Map Viewer
ArcGIS Earth
ArcMap
View Footprint In:
ArcGIS Online Map Viewer
Service Description: Perry County 911, IL
Name: PerryCoIL/PerryCoIL_2017
Description: Perry County 911, IL
Single Fused Map Cache: false
Extent:
XMin: 2461114.118
YMin: 468426.493
XMax: 2599437.118
YMax: 566087.493
Spatial Reference: PROJCS["TMILLWFT83",GEOGCS["GCS_North_American_1983",DATUM["D_North_American_1983",SPHEROID["GRS_1980",6378137.0,298.257222101]],PRIMEM["Greenwich",0.0],UNIT["Degree",0.0174532925199433]],PROJECTION["Transverse_Mercator"],PARAMETER["false_easting",2296583.333],PARAMETER["false_northing",0.0],PARAMETER["central_meridian",-90.16666667345312],PARAMETER["scale_factor",0.999941177],PARAMETER["latitude_of_origin",36.66666672026184],UNIT["Foot_US",0.3048006096012192]]
Initial Extent:
XMin: 2461114.118
YMin: 468426.493
XMax: 2599437.118
YMax: 566087.493
Spatial Reference: PROJCS["TMILLWFT83",GEOGCS["GCS_North_American_1983",DATUM["D_North_American_1983",SPHEROID["GRS_1980",6378137.0,298.257222101]],PRIMEM["Greenwich",0.0],UNIT["Degree",0.0174532925199433]],PROJECTION["Transverse_Mercator"],PARAMETER["false_easting",2296583.333],PARAMETER["false_northing",0.0],PARAMETER["central_meridian",-90.16666667345312],PARAMETER["scale_factor",0.999941177],PARAMETER["latitude_of_origin",36.66666672026184],UNIT["Foot_US",0.3048006096012192]]
Full Extent:
XMin: 2461114.118
YMin: 468426.493
XMax: 2599437.118
YMax: 566087.493
Spatial Reference: PROJCS["TMILLWFT83",GEOGCS["GCS_North_American_1983",DATUM["D_North_American_1983",SPHEROID["GRS_1980",6378137.0,298.257222101]],PRIMEM["Greenwich",0.0],UNIT["Degree",0.0174532925199433]],PROJECTION["Transverse_Mercator"],PARAMETER["false_easting",2296583.333],PARAMETER["false_northing",0.0],PARAMETER["central_meridian",-90.16666667345312],PARAMETER["scale_factor",0.999941177],PARAMETER["latitude_of_origin",36.66666672026184],UNIT["Foot_US",0.3048006096012192]]
Pixel Size X: 0.5
Pixel Size Y: 0.5
Band Count: 4
Pixel Type: U8
RasterFunction Infos: {"rasterFunctionInfos": [{
"name": "None",
"description": "",
"help": ""
}]}
Mensuration Capabilities: Basic
Has Histograms: true
Has Colormap: false
Has Multi Dimensions : false
Rendering Rule:
Min Scale: 0
Max Scale: 0
Copyright Text:
Service Data Type: esriImageServiceDataTypeGeneric
Min Values: 0, 0, 0, 248
Max Values: 255, 255, 255, 255
Mean Values: 109.75349330441, 100.12326340856, 81.691226551688, 254.80301321279
Standard Deviation Values: 44.636086226367, 41.362412561764, 38.77429180156, 0.54760739304359
Object ID Field:
Fields:
None
Default Mosaic Method: Center
Allowed Mosaic Methods:
SortField:
SortValue: null
Mosaic Operator: First
Default Compression Quality: 75
Default Resampling Method: Bilinear
Max Record Count: null
Max Image Height: 4100
Max Image Width: 15000
Max Download Image Count: null
Max Mosaic Image Count: null
Allow Raster Function: true
Allow Copy: null
Allow Analysis: null
Allow Compute TiePoints: false
Supports Statistics: false
Supports Advanced Queries: false
Use StandardizedQueries: true
Raster Type Infos:
Name: Raster Dataset
Description: Supports all ArcGIS Raster Datasets
Help:
Has Raster Attribute Table: false
Edit Fields Info: null
Ownership Based AccessControl For Rasters: null
Child Resources:
Info
Histograms
Key Properties
Legend
Raster Function Infos
Supported Operations:
Export Image
Identify
Measure
Compute Histograms
Compute Statistics Histograms
Get Samples
Compute Class Statistics
Query Boundary
Compute Pixel Location
Validate
Project