{
 "currentVersion": 10.81,
 "serviceDescription": "Perry County 911, IL",
 "name": "PerryCoIL/PerryCoIL_2017",
 "description": "Perry County 911, IL",
 "extent": {
  "xmin": 2461114.118,
  "ymin": 468426.493,
  "xmax": 2599437.118,
  "ymax": 566087.493,
  "spatialReference": {
   "wkt": "PROJCS[\"TMILLWFT83\",GEOGCS[\"GCS_North_American_1983\",DATUM[\"D_North_American_1983\",SPHEROID[\"GRS_1980\",6378137.0,298.257222101]],PRIMEM[\"Greenwich\",0.0],UNIT[\"Degree\",0.0174532925199433]],PROJECTION[\"Transverse_Mercator\"],PARAMETER[\"false_easting\",2296583.333],PARAMETER[\"false_northing\",0.0],PARAMETER[\"central_meridian\",-90.16666667345312],PARAMETER[\"scale_factor\",0.999941177],PARAMETER[\"latitude_of_origin\",36.66666672026184],UNIT[\"Foot_US\",0.3048006096012192]]"
  }
 },
 "initialExtent": {
  "xmin": 2461114.118,
  "ymin": 468426.493,
  "xmax": 2599437.118,
  "ymax": 566087.493,
  "spatialReference": {
   "wkt": "PROJCS[\"TMILLWFT83\",GEOGCS[\"GCS_North_American_1983\",DATUM[\"D_North_American_1983\",SPHEROID[\"GRS_1980\",6378137.0,298.257222101]],PRIMEM[\"Greenwich\",0.0],UNIT[\"Degree\",0.0174532925199433]],PROJECTION[\"Transverse_Mercator\"],PARAMETER[\"false_easting\",2296583.333],PARAMETER[\"false_northing\",0.0],PARAMETER[\"central_meridian\",-90.16666667345312],PARAMETER[\"scale_factor\",0.999941177],PARAMETER[\"latitude_of_origin\",36.66666672026184],UNIT[\"Foot_US\",0.3048006096012192]]"
  }
 },
 "fullExtent": {
  "xmin": 2461114.118,
  "ymin": 468426.493,
  "xmax": 2599437.118,
  "ymax": 566087.493,
  "spatialReference": {
   "wkt": "PROJCS[\"TMILLWFT83\",GEOGCS[\"GCS_North_American_1983\",DATUM[\"D_North_American_1983\",SPHEROID[\"GRS_1980\",6378137.0,298.257222101]],PRIMEM[\"Greenwich\",0.0],UNIT[\"Degree\",0.0174532925199433]],PROJECTION[\"Transverse_Mercator\"],PARAMETER[\"false_easting\",2296583.333],PARAMETER[\"false_northing\",0.0],PARAMETER[\"central_meridian\",-90.16666667345312],PARAMETER[\"scale_factor\",0.999941177],PARAMETER[\"latitude_of_origin\",36.66666672026184],UNIT[\"Foot_US\",0.3048006096012192]]"
  }
 },
 "pixelSizeX": 0.5,
 "pixelSizeY": 0.5,
 "bandCount": 4,
 "pixelType": "U8",
 "minPixelSize": 0,
 "maxPixelSize": 0,
 "copyrightText": "",
 "serviceDataType": "esriImageServiceDataTypeGeneric",
 "minValues": [
  0,
  0,
  0,
  248
 ],
 "maxValues": [
  255,
  255,
  255,
  255
 ],
 "meanValues": [
  109.75349330441,
  100.12326340856,
  81.691226551688,
  254.80301321279
 ],
 "stdvValues": [
  44.636086226367,
  41.362412561764,
  38.77429180156,
  0.54760739304359
 ],
 "objectIdField": "",
 "fields": [],
 "capabilities": "Image,Metadata,Mensuration",
 "defaultMosaicMethod": "Center",
 "allowedMosaicMethods": "",
 "sortField": "",
 "sortValue": null,
 "sortAscending": true,
 "mosaicOperator": "First",
 "defaultCompressionQuality": 75,
 "defaultResamplingMethod": "Bilinear",
 "maxImageHeight": 4100,
 "maxImageWidth": 15000,
 "allowRasterFunction": true,
 "rasterFunctionInfos": [
  {
   "name": "None",
   "description": "",
   "help": ""
  }
 ],
 "rasterTypeInfos": [
  {
   "name": "Raster Dataset",
   "description": "Supports all ArcGIS Raster Datasets",
   "help": ""
  }
 ],
 "mensurationCapabilities": "Basic",
 "hasHistograms": true,
 "hasColormap": false,
 "hasRasterAttributeTable": false,
 "minScale": 0,
 "maxScale": 0,
 "exportTilesAllowed": false,
 "hasMultidimensions": false,
 "supportsStatistics": false,
 "supportsAdvancedQueries": false,
 "editFieldsInfo": null,
 "ownershipBasedAccessControlForRasters": null,
 "allowComputeTiePoints": false,
 "useStandardizedQueries": true,
 "advancedQueryCapabilities": {
  "useStandardizedQueries": true,
  "supportsStatistics": false,
  "supportsOrderBy": false,
  "supportsDistinct": false,
  "supportsPagination": false
 },
 "spatialReference": {
  "wkt": "PROJCS[\"TMILLWFT83\",GEOGCS[\"GCS_North_American_1983\",DATUM[\"D_North_American_1983\",SPHEROID[\"GRS_1980\",6378137.0,298.257222101]],PRIMEM[\"Greenwich\",0.0],UNIT[\"Degree\",0.0174532925199433]],PROJECTION[\"Transverse_Mercator\"],PARAMETER[\"false_easting\",2296583.333],PARAMETER[\"false_northing\",0.0],PARAMETER[\"central_meridian\",-90.16666667345312],PARAMETER[\"scale_factor\",0.999941177],PARAMETER[\"latitude_of_origin\",36.66666672026184],UNIT[\"Foot_US\",0.3048006096012192]]"
 }
}
