View In:
ArcGIS JavaScript
ArcGIS Online Map Viewer
ArcGIS Earth
ArcMap
View Footprint In:
ArcGIS Online Map Viewer
Service Description: Drone LiDAR data collected by Horner & Shifrin on 5/17/2022
Name: LAWWA/TurkeyBend_DSM
Description: Drone LiDAR data collected by Horner & Shifrin on 5/17/2022
Single Fused Map Cache: false
Extent:
XMin: 1580895.1561583332
YMin: 839958.136920447
XMax: 1582515.2570068182
YMax: 841177.7228598412
Spatial Reference: 102697
(102697)
VCSWkid(105703)
LatestVCSWkid(6360)
Initial Extent:
XMin: 1580895.1561583332
YMin: 839958.136920447
XMax: 1582515.2570068182
YMax: 841177.7228598412
Spatial Reference: 102697
(102697)
VCSWkid(105703)
LatestVCSWkid(6360)
Full Extent:
XMin: 1580895.1561583332
YMin: 839958.136920447
XMax: 1582515.2570068182
YMax: 841177.7228598412
Spatial Reference: 102697
(102697)
VCSWkid(105703)
LatestVCSWkid(6360)
Pixel Size X: 3.6082424242428
Pixel Size Y: 3.6082424242431768
Band Count: 1
Pixel Type: F32
RasterFunction Infos: {"rasterFunctionInfos": [{
"name": "None",
"description": "",
"help": ""
}]}
Mensuration Capabilities: Basic
Has Histograms: true
Has Colormap: false
Has Multi Dimensions : false
Rendering Rule:
Min Scale: 0
Max Scale: 0
Copyright Text: Zach Lawrence
Service Data Type: esriImageServiceDataTypeGeneric
Min Values: 657.59448242188
Max Values: 804.75677490234
Mean Values: 725.05380159843
Standard Deviation Values: 44.722872473343
Object ID Field:
Fields:
None
Default Mosaic Method: Center
Allowed Mosaic Methods:
SortField:
SortValue: null
Mosaic Operator: First
Default Compression Quality: 75
Default Resampling Method: Bilinear
Max Record Count: null
Max Image Height: 4100
Max Image Width: 15000
Max Download Image Count: null
Max Mosaic Image Count: null
Allow Raster Function: true
Allow Copy: null
Allow Analysis: null
Allow Compute TiePoints: false
Supports Statistics: false
Supports Advanced Queries: false
Use StandardizedQueries: true
Raster Type Infos:
Name: Raster Dataset
Description: Supports all ArcGIS Raster Datasets
Help:
Has Raster Attribute Table: false
Edit Fields Info: null
Ownership Based AccessControl For Rasters: null
Child Resources:
Info
Histograms
Key Properties
Legend
Raster Function Infos
Supported Operations:
Export Image
Identify
Measure
Compute Histograms
Compute Statistics Histograms
Get Samples
Compute Class Statistics
Query Boundary
Compute Pixel Location
Validate
Project