{
 "currentVersion": 10.81,
 "serviceDescription": "Drone LiDAR data collected by Horner & Shifrin on 5/17/2022",
 "name": "LAWWA/TurkeyBend_DSM",
 "description": "Drone LiDAR data collected by Horner & Shifrin on 5/17/2022",
 "extent": {
  "xmin": 1580895.1561583332,
  "ymin": 839958.136920447,
  "xmax": 1582515.2570068182,
  "ymax": 841177.7228598412,
  "spatialReference": {
   "wkid": 102697,
   "latestWkid": 102697,
   "vcsWkid": 105703,
   "latestVcsWkid": 6360
  }
 },
 "initialExtent": {
  "xmin": 1580895.1561583332,
  "ymin": 839958.136920447,
  "xmax": 1582515.2570068182,
  "ymax": 841177.7228598412,
  "spatialReference": {
   "wkid": 102697,
   "latestWkid": 102697,
   "vcsWkid": 105703,
   "latestVcsWkid": 6360
  }
 },
 "fullExtent": {
  "xmin": 1580895.1561583332,
  "ymin": 839958.136920447,
  "xmax": 1582515.2570068182,
  "ymax": 841177.7228598412,
  "spatialReference": {
   "wkid": 102697,
   "latestWkid": 102697,
   "vcsWkid": 105703,
   "latestVcsWkid": 6360
  }
 },
 "heightModelInfo": {
  "heightModel": "gravity_related_height",
  "vertCRS": "NAVD88_height_(ftUS)",
  "heightUnit": "us-foot"
 },
 "pixelSizeX": 3.6082424242428,
 "pixelSizeY": 3.6082424242431768,
 "bandCount": 1,
 "pixelType": "F32",
 "minPixelSize": 0,
 "maxPixelSize": 0,
 "copyrightText": "Zach Lawrence",
 "serviceDataType": "esriImageServiceDataTypeGeneric",
 "minValues": [
  657.59448242188
 ],
 "maxValues": [
  804.75677490234
 ],
 "meanValues": [
  725.05380159843
 ],
 "stdvValues": [
  44.722872473343
 ],
 "objectIdField": "",
 "fields": [],
 "capabilities": "Image,Metadata,Mensuration",
 "defaultMosaicMethod": "Center",
 "allowedMosaicMethods": "",
 "sortField": "",
 "sortValue": null,
 "sortAscending": true,
 "mosaicOperator": "First",
 "defaultCompressionQuality": 75,
 "defaultResamplingMethod": "Bilinear",
 "maxImageHeight": 4100,
 "maxImageWidth": 15000,
 "allowRasterFunction": true,
 "rasterFunctionInfos": [
  {
   "name": "None",
   "description": "",
   "help": ""
  }
 ],
 "rasterTypeInfos": [
  {
   "name": "Raster Dataset",
   "description": "Supports all ArcGIS Raster Datasets",
   "help": ""
  }
 ],
 "mensurationCapabilities": "Basic",
 "hasHistograms": true,
 "hasColormap": false,
 "hasRasterAttributeTable": false,
 "minScale": 0,
 "maxScale": 0,
 "exportTilesAllowed": false,
 "hasMultidimensions": false,
 "supportsStatistics": false,
 "supportsAdvancedQueries": false,
 "editFieldsInfo": null,
 "ownershipBasedAccessControlForRasters": null,
 "allowComputeTiePoints": false,
 "useStandardizedQueries": true,
 "advancedQueryCapabilities": {
  "useStandardizedQueries": true,
  "supportsStatistics": false,
  "supportsOrderBy": false,
  "supportsDistinct": false,
  "supportsPagination": false
 },
 "spatialReference": {
  "wkid": 102697,
  "latestWkid": 102697,
  "vcsWkid": 105703,
  "latestVcsWkid": 6360
 }
}
