View In:
ArcGIS JavaScript
ArcGIS Online Map Viewer
ArcGIS Earth
ArcMap
View Footprint In:
ArcGIS Online Map Viewer
Service Description: Pulaski County Imagery 2015
Name: JohnsonPulaski911/Pulaski_Imagery_2015
Description: Pulaski County Imagery 2015
Single Fused Map Cache: false
Extent:
XMin: 2555674.5270012524
YMin: 145983.91316428353
XMax: 2658643.5203488795
YMax: 246211.9199987602
Spatial Reference: 102672
(3436)
Initial Extent:
XMin: 2555674.5270012524
YMin: 145983.91316428353
XMax: 2658643.5203488795
YMax: 246211.9199987602
Spatial Reference: 102672
(3436)
Full Extent:
XMin: 2555674.5270012524
YMin: 145983.91316428353
XMax: 2658643.5203488795
YMax: 246211.9199987602
Spatial Reference: 102672
(3436)
Pixel Size X: 0.49999753979395406
Pixel Size Y: 0.4999975397939541
Band Count: 3
Pixel Type: U8
RasterFunction Infos: {"rasterFunctionInfos": [{
"name": "None",
"description": "",
"help": ""
}]}
Mensuration Capabilities: Basic
Has Histograms: true
Has Colormap: false
Has Multi Dimensions : false
Rendering Rule:
Min Scale: 0
Max Scale: 0
Copyright Text:
Service Data Type: esriImageServiceDataTypeRGB
Min Values: 0, 0, 0
Max Values: 254, 254, 254
Mean Values: 130.2317867741, 125.68566731372, 106.43026219988
Standard Deviation Values: 32.397056886912, 31.975651495087, 26.734401732513
Object ID Field:
Fields:
None
Default Mosaic Method: Center
Allowed Mosaic Methods:
SortField:
SortValue: null
Mosaic Operator: First
Default Compression Quality: 75
Default Resampling Method: Bilinear
Max Record Count: null
Max Image Height: 4100
Max Image Width: 15000
Max Download Image Count: null
Max Mosaic Image Count: null
Allow Raster Function: true
Allow Copy: null
Allow Analysis: null
Allow Compute TiePoints: false
Supports Statistics: false
Supports Advanced Queries: false
Use StandardizedQueries: true
Raster Type Infos:
Name: Raster Dataset
Description: Supports all ArcGIS Raster Datasets
Help:
Has Raster Attribute Table: false
Edit Fields Info: null
Ownership Based AccessControl For Rasters: null
Child Resources:
Info
Histograms
Key Properties
Legend
Raster Function Infos
Supported Operations:
Export Image
Identify
Measure
Compute Histograms
Compute Statistics Histograms
Get Samples
Compute Class Statistics
Query Boundary
Compute Pixel Location
Validate
Project