{
 "currentVersion": 10.81,
 "serviceDescription": "Pulaski County Imagery 2015",
 "name": "JohnsonPulaski911/Pulaski_Imagery_2015",
 "description": "Pulaski County Imagery 2015",
 "extent": {
  "xmin": 2555674.5270012524,
  "ymin": 145983.91316428353,
  "xmax": 2658643.5203488795,
  "ymax": 246211.9199987602,
  "spatialReference": {
   "wkid": 102672,
   "latestWkid": 3436
  }
 },
 "initialExtent": {
  "xmin": 2555674.5270012524,
  "ymin": 145983.91316428353,
  "xmax": 2658643.5203488795,
  "ymax": 246211.9199987602,
  "spatialReference": {
   "wkid": 102672,
   "latestWkid": 3436
  }
 },
 "fullExtent": {
  "xmin": 2555674.5270012524,
  "ymin": 145983.91316428353,
  "xmax": 2658643.5203488795,
  "ymax": 246211.9199987602,
  "spatialReference": {
   "wkid": 102672,
   "latestWkid": 3436
  }
 },
 "pixelSizeX": 0.49999753979395406,
 "pixelSizeY": 0.4999975397939541,
 "bandCount": 3,
 "pixelType": "U8",
 "minPixelSize": 0,
 "maxPixelSize": 0,
 "copyrightText": "",
 "serviceDataType": "esriImageServiceDataTypeRGB",
 "minValues": [
  0,
  0,
  0
 ],
 "maxValues": [
  254,
  254,
  254
 ],
 "meanValues": [
  130.2317867741,
  125.68566731372,
  106.43026219988
 ],
 "stdvValues": [
  32.397056886912,
  31.975651495087,
  26.734401732513
 ],
 "objectIdField": "",
 "fields": [],
 "capabilities": "Image,Metadata,Mensuration",
 "defaultMosaicMethod": "Center",
 "allowedMosaicMethods": "",
 "sortField": "",
 "sortValue": null,
 "sortAscending": true,
 "mosaicOperator": "First",
 "defaultCompressionQuality": 75,
 "defaultResamplingMethod": "Bilinear",
 "maxImageHeight": 4100,
 "maxImageWidth": 15000,
 "allowRasterFunction": true,
 "rasterFunctionInfos": [
  {
   "name": "None",
   "description": "",
   "help": ""
  }
 ],
 "rasterTypeInfos": [
  {
   "name": "Raster Dataset",
   "description": "Supports all ArcGIS Raster Datasets",
   "help": ""
  }
 ],
 "mensurationCapabilities": "Basic",
 "hasHistograms": true,
 "hasColormap": false,
 "hasRasterAttributeTable": false,
 "minScale": 0,
 "maxScale": 0,
 "exportTilesAllowed": false,
 "hasMultidimensions": false,
 "supportsStatistics": false,
 "supportsAdvancedQueries": false,
 "editFieldsInfo": null,
 "ownershipBasedAccessControlForRasters": null,
 "allowComputeTiePoints": false,
 "useStandardizedQueries": true,
 "advancedQueryCapabilities": {
  "useStandardizedQueries": true,
  "supportsStatistics": false,
  "supportsOrderBy": false,
  "supportsDistinct": false,
  "supportsPagination": false
 },
 "spatialReference": {
  "wkid": 102672,
  "latestWkid": 3436
 }
}
