View In:
ArcGIS JavaScript
ArcGIS Online Map Viewer
ArcGIS Earth
ArcMap
View Footprint In:
ArcGIS Online Map Viewer
Service Description: This data set is a USGS Quadrangle mosaic of DOQQ images from the 2007 Missouri State Leaf-Off Imagery Program. A Digital Orthophoto Quarter-Quadrangle (DOQQ) is a raster image in which displacement in the image caused by sensor orientation and terrain relief has been removed. An orthophoto combines the image characteristics of a photograph with the geometric qualities of a map. The geographic extent of the DOQQ is equivalent to a quarter of a 7.5-minute map (3.75 minutes of latitude and longitude) with overedge. The overedge ranges from a minimum of 50 meters to a maximum of 300 meters beyond the extremes of the NAD83 datum 3.75-minute latitude and longitude boundaries. DOQQs are produced with a 0.6 meter ground sample distance (GSD) and are cast on the Universal Transverse Mercator (UTM) projection on the North American Datum of 1983 (NAD83). The DOQQs will meet an accuracy of 3-meter diagonal Root Mean Square Error (2.12m RMSE X or Y). The raw images in GeoTIFF format were encoded to MrSID Generation III images using a 15:1 compression ratio.
Name: ArbyrdMo/ArbyrdMo2007
Description: This data set is a USGS Quadrangle mosaic of DOQQ images from the 2007 Missouri State Leaf-Off Imagery Program. A Digital Orthophoto Quarter-Quadrangle (DOQQ) is a raster image in which displacement in the image caused by sensor orientation and terrain relief has been removed. An orthophoto combines the image characteristics of a photograph with the geometric qualities of a map. The geographic extent of the DOQQ is equivalent to a quarter of a 7.5-minute map (3.75 minutes of latitude and longitude) with overedge. The overedge ranges from a minimum of 50 meters to a maximum of 300 meters beyond the extremes of the NAD83 datum 3.75-minute latitude and longitude boundaries. DOQQs are produced with a 0.6 meter ground sample distance (GSD) and are cast on the Universal Transverse Mercator (UTM) projection on the North American Datum of 1983 (NAD83). The DOQQs will meet an accuracy of 3-meter diagonal Root Mean Square Error (2.12m RMSE X or Y). The raw images in GeoTIFF format were encoded to MrSID Generation III images using a 15:1 compression ratio.
Single Fused Map Cache: false
Extent:
XMin: 892196.7091974613
YMin: 59137.30362192268
XMax: 932978.1236974611
YMax: 108009.25312192236
Spatial Reference: 102696
(102696)
Initial Extent:
XMin: 892196.7091974613
YMin: 59137.30362192268
XMax: 932978.1236974611
YMax: 108009.25312192236
Spatial Reference: 102696
(102696)
Full Extent:
XMin: 892196.7091974613
YMin: 59137.30362192268
XMax: 932978.1236974611
YMax: 108009.25312192236
Spatial Reference: 102696
(102696)
Pixel Size X: 1.9684999999999921
Pixel Size Y: 1.9684999999999873
Band Count: 3
Pixel Type: U8
RasterFunction Infos: {"rasterFunctionInfos": [{
"name": "None",
"description": "",
"help": ""
}]}
Mensuration Capabilities: Basic
Has Histograms: true
Has Colormap: false
Has Multi Dimensions : false
Rendering Rule:
Min Scale: 0
Max Scale: 0
Copyright Text:
Service Data Type: esriImageServiceDataTypeRGB
Min Values: 0, 0, 0
Max Values: 255, 255, 255
Mean Values: 137.6301798020702, 135.71044508165636, 118.61236134795189
Standard Deviation Values: 42.256224869913616, 39.70551148554264, 34.72771670144029
Object ID Field:
Fields:
None
Default Mosaic Method: Center
Allowed Mosaic Methods:
SortField:
SortValue: null
Mosaic Operator: First
Default Compression Quality: 75
Default Resampling Method: Bilinear
Max Record Count: null
Max Image Height: 4100
Max Image Width: 15000
Max Download Image Count: null
Max Mosaic Image Count: null
Allow Raster Function: true
Allow Copy: null
Allow Analysis: null
Allow Compute TiePoints: false
Supports Statistics: false
Supports Advanced Queries: false
Use StandardizedQueries: true
Raster Type Infos:
Name: Raster Dataset
Description: Supports all ArcGIS Raster Datasets
Help:
Has Raster Attribute Table: false
Edit Fields Info: null
Ownership Based AccessControl For Rasters: null
Child Resources:
Info
Histograms
Key Properties
Legend
Raster Function Infos
Supported Operations:
Export Image
Identify
Measure
Compute Histograms
Compute Statistics Histograms
Get Samples
Compute Class Statistics
Query Boundary
Compute Pixel Location
Validate
Project