{
 "currentVersion": 10.81,
 "serviceDescription": "This data set is a USGS Quadrangle mosaic of DOQQ images from the 2007 Missouri State Leaf-Off Imagery Program. A Digital Orthophoto Quarter-Quadrangle (DOQQ) is a raster image in which displacement in the image caused by sensor orientation and terrain relief has been removed. An orthophoto combines the image characteristics of a photograph with the geometric qualities of a map. The geographic extent of the DOQQ is equivalent to a quarter of a 7.5-minute map (3.75 minutes of latitude and longitude) with overedge. The overedge ranges from a minimum of 50 meters to a maximum of 300 meters beyond the extremes of the NAD83 datum 3.75-minute latitude and longitude boundaries. DOQQs are produced with a 0.6 meter ground sample distance (GSD) and are cast on the Universal Transverse Mercator (UTM) projection on the North American Datum of 1983 (NAD83). The DOQQs will meet an accuracy of 3-meter diagonal Root Mean Square Error (2.12m RMSE X or Y). The raw images in GeoTIFF format were encoded to MrSID Generation III images using a 15:1 compression ratio.",
 "name": "ArbyrdMo/ArbyrdMo2007",
 "description": "This data set is a USGS Quadrangle mosaic of DOQQ images from the 2007 Missouri State Leaf-Off Imagery Program. A Digital Orthophoto Quarter-Quadrangle (DOQQ) is a raster image in which displacement in the image caused by sensor orientation and terrain relief has been removed. An orthophoto combines the image characteristics of a photograph with the geometric qualities of a map. The geographic extent of the DOQQ is equivalent to a quarter of a 7.5-minute map (3.75 minutes of latitude and longitude) with overedge. The overedge ranges from a minimum of 50 meters to a maximum of 300 meters beyond the extremes of the NAD83 datum 3.75-minute latitude and longitude boundaries. DOQQs are produced with a 0.6 meter ground sample distance (GSD) and are cast on the Universal Transverse Mercator (UTM) projection on the North American Datum of 1983 (NAD83). The DOQQs will meet an accuracy of 3-meter diagonal Root Mean Square Error (2.12m RMSE X or Y). The raw images in GeoTIFF format were encoded to MrSID Generation III images using a 15:1 compression ratio.",
 "extent": {
  "xmin": 892196.7091974613,
  "ymin": 59137.30362192268,
  "xmax": 932978.1236974611,
  "ymax": 108009.25312192236,
  "spatialReference": {
   "wkid": 102696,
   "latestWkid": 102696
  }
 },
 "initialExtent": {
  "xmin": 892196.7091974613,
  "ymin": 59137.30362192268,
  "xmax": 932978.1236974611,
  "ymax": 108009.25312192236,
  "spatialReference": {
   "wkid": 102696,
   "latestWkid": 102696
  }
 },
 "fullExtent": {
  "xmin": 892196.7091974613,
  "ymin": 59137.30362192268,
  "xmax": 932978.1236974611,
  "ymax": 108009.25312192236,
  "spatialReference": {
   "wkid": 102696,
   "latestWkid": 102696
  }
 },
 "pixelSizeX": 1.9684999999999921,
 "pixelSizeY": 1.9684999999999873,
 "bandCount": 3,
 "pixelType": "U8",
 "minPixelSize": 0,
 "maxPixelSize": 0,
 "copyrightText": "",
 "serviceDataType": "esriImageServiceDataTypeRGB",
 "minValues": [
  0,
  0,
  0
 ],
 "maxValues": [
  255,
  255,
  255
 ],
 "meanValues": [
  137.6301798020702,
  135.71044508165636,
  118.61236134795189
 ],
 "stdvValues": [
  42.256224869913616,
  39.70551148554264,
  34.72771670144029
 ],
 "objectIdField": "",
 "fields": [],
 "capabilities": "Image,Metadata,Mensuration",
 "defaultMosaicMethod": "Center",
 "allowedMosaicMethods": "",
 "sortField": "",
 "sortValue": null,
 "sortAscending": true,
 "mosaicOperator": "First",
 "defaultCompressionQuality": 75,
 "defaultResamplingMethod": "Bilinear",
 "maxImageHeight": 4100,
 "maxImageWidth": 15000,
 "allowRasterFunction": true,
 "rasterFunctionInfos": [
  {
   "name": "None",
   "description": "",
   "help": ""
  }
 ],
 "rasterTypeInfos": [
  {
   "name": "Raster Dataset",
   "description": "Supports all ArcGIS Raster Datasets",
   "help": ""
  }
 ],
 "mensurationCapabilities": "Basic",
 "hasHistograms": true,
 "hasColormap": false,
 "hasRasterAttributeTable": false,
 "minScale": 0,
 "maxScale": 0,
 "exportTilesAllowed": false,
 "hasMultidimensions": false,
 "supportsStatistics": false,
 "supportsAdvancedQueries": false,
 "editFieldsInfo": null,
 "ownershipBasedAccessControlForRasters": null,
 "allowComputeTiePoints": false,
 "useStandardizedQueries": true,
 "advancedQueryCapabilities": {
  "useStandardizedQueries": true,
  "supportsStatistics": false,
  "supportsOrderBy": false,
  "supportsDistinct": false,
  "supportsPagination": false
 },
 "spatialReference": {
  "wkid": 102696,
  "latestWkid": 102696
 }
}
