View In:
ArcGIS JavaScript
ArcGIS Online Map Viewer
ArcGIS Earth
ArcMap
View Footprint In:
ArcGIS Online Map Viewer
Service Description: VanWertOH2020Imagery
Name: VanWertCountyOH/VanWertOH_Imagery
Description: VanWertOH2020Imagery
Single Fused Map Cache: false
Extent:
XMin: 1325872.576163037
YMin: 370858.88544084184
XMax: 1466055.4978963702
YMax: 494241.5783075085
Spatial Reference: 102722
(3734)
Initial Extent:
XMin: 1325872.576163037
YMin: 370858.88544084184
XMax: 1466055.4978963702
YMax: 494241.5783075085
Spatial Reference: 102722
(3734)
Full Extent:
XMin: 1325872.576163037
YMin: 370858.88544084184
XMax: 1466055.4978963702
YMax: 494241.5783075085
Spatial Reference: 102722
(3734)
Pixel Size X: 0.2624666666666665
Pixel Size Y: 0.2624666666666666
Band Count: 4
Pixel Type: U8
RasterFunction Infos: {"rasterFunctionInfos": [{
"name": "None",
"description": "",
"help": ""
}]}
Mensuration Capabilities: Basic
Has Histograms: true
Has Colormap: false
Has Multi Dimensions : false
Rendering Rule:
Min Scale: 0
Max Scale: 0
Copyright Text:
Service Data Type: esriImageServiceDataTypeGeneric
Min Values: 0, 0, 0, 0
Max Values: 255, 255, 255, 255
Mean Values: 121.29531993765, 119.25161794717, 120.3180908253, 191.66815364822
Standard Deviation Values: 77.743652359523, 74.83639064321, 76.074901249379, 110.16792473619
Object ID Field:
Fields:
None
Default Mosaic Method: Center
Allowed Mosaic Methods:
SortField:
SortValue: null
Mosaic Operator: First
Default Compression Quality: 75
Default Resampling Method: Bilinear
Max Record Count: null
Max Image Height: 4100
Max Image Width: 15000
Max Download Image Count: null
Max Mosaic Image Count: null
Allow Raster Function: true
Allow Copy: null
Allow Analysis: null
Allow Compute TiePoints: false
Supports Statistics: false
Supports Advanced Queries: false
Use StandardizedQueries: true
Raster Type Infos:
Name: Raster Dataset
Description: Supports all ArcGIS Raster Datasets
Help:
Has Raster Attribute Table: false
Edit Fields Info: null
Ownership Based AccessControl For Rasters: null
Child Resources:
Info
Histograms
Key Properties
Legend
Raster Function Infos
Supported Operations:
Export Image
Identify
Measure
Compute Histograms
Compute Statistics Histograms
Get Samples
Compute Class Statistics
Query Boundary
Compute Pixel Location
Validate
Project