View In:
ArcGIS JavaScript
ArcGIS Online Map Viewer
ArcGIS Earth
ArcMap
View Footprint In:
ArcGIS Online Map Viewer
Service Description: MarionIL/2024WilliamsonCounty
Name: MarionIL/2024WilliamsonCounty
Description:
Single Fused Map Cache: false
Extent:
XMin: 746328
YMin: 338976
XMax: 878328
YMax: 439296
Spatial Reference: PROJCS["TMILLEFT83",GEOGCS["GCS_North_American_1983",DATUM["D_North_American_1983",SPHEROID["GRS_1980",6378137.0,298.257222101]],PRIMEM["Greenwich",0.0],UNIT["Degree",0.0174532925199433]],PROJECTION["Transverse_Mercator"],PARAMETER["false_easting",984249.9998],PARAMETER["false_northing",0.0],PARAMETER["central_meridian",-88.33333328014425],PARAMETER["scale_factor",0.999975],PARAMETER["latitude_of_origin",36.66666672026184],UNIT["Foot_US",0.3048006096012192]]
Initial Extent:
XMin: 746328
YMin: 338976
XMax: 878328
YMax: 439296
Spatial Reference: PROJCS["TMILLEFT83",GEOGCS["GCS_North_American_1983",DATUM["D_North_American_1983",SPHEROID["GRS_1980",6378137.0,298.257222101]],PRIMEM["Greenwich",0.0],UNIT["Degree",0.0174532925199433]],PROJECTION["Transverse_Mercator"],PARAMETER["false_easting",984249.9998],PARAMETER["false_northing",0.0],PARAMETER["central_meridian",-88.33333328014425],PARAMETER["scale_factor",0.999975],PARAMETER["latitude_of_origin",36.66666672026184],UNIT["Foot_US",0.3048006096012192]]
Full Extent:
XMin: 746328
YMin: 338976
XMax: 878328
YMax: 439296
Spatial Reference: PROJCS["TMILLEFT83",GEOGCS["GCS_North_American_1983",DATUM["D_North_American_1983",SPHEROID["GRS_1980",6378137.0,298.257222101]],PRIMEM["Greenwich",0.0],UNIT["Degree",0.0174532925199433]],PROJECTION["Transverse_Mercator"],PARAMETER["false_easting",984249.9998],PARAMETER["false_northing",0.0],PARAMETER["central_meridian",-88.33333328014425],PARAMETER["scale_factor",0.999975],PARAMETER["latitude_of_origin",36.66666672026184],UNIT["Foot_US",0.3048006096012192]]
Pixel Size X: 0.25
Pixel Size Y: 0.25
Band Count: 3
Pixel Type: U8
RasterFunction Infos: {"rasterFunctionInfos": [{
"name": "None",
"description": "",
"help": ""
}]}
Mensuration Capabilities: Basic
Has Histograms: false
Has Colormap: false
Has Multi Dimensions : false
Rendering Rule:
Min Scale: 0
Max Scale: 0
Copyright Text:
Service Data Type: esriImageServiceDataTypeRGB
Min Values: N/A
Max Values: N/A
Mean Values: N/A
Standard Deviation Values: N/A
Object ID Field:
Fields:
None
Default Mosaic Method: Center
Allowed Mosaic Methods:
SortField:
SortValue: null
Mosaic Operator: First
Default Compression Quality: 75
Default Resampling Method: Bilinear
Max Record Count: null
Max Image Height: 4100
Max Image Width: 15000
Max Download Image Count: null
Max Mosaic Image Count: null
Allow Raster Function: true
Allow Copy: null
Allow Analysis: null
Allow Compute TiePoints: false
Supports Statistics: false
Supports Advanced Queries: false
Use StandardizedQueries: true
Raster Type Infos:
Name: Raster Dataset
Description: Supports all ArcGIS Raster Datasets
Help:
Has Raster Attribute Table: false
Edit Fields Info: null
Ownership Based AccessControl For Rasters: null
Child Resources:
Info
Key Properties
Legend
Raster Function Infos
Supported Operations:
Export Image
Identify
Measure
Compute Histograms
Compute Statistics Histograms
Get Samples
Compute Class Statistics
Query Boundary
Compute Pixel Location
Validate
Project