View In:
ArcGIS JavaScript
ArcGIS Online Map Viewer
ArcGIS Earth
ArcMap
View Footprint In:
ArcGIS Online Map Viewer
Service Description: NAIP 2020
Name: CassvilleMO/NAIP2020
Description: NAIP 2020
Single Fused Map Cache: false
Extent:
XMin: 398868.6
YMin: 4032377.4
XMax: 450254.39999999997
YMax: 4088884.8
Spatial Reference: 26915
(26915)
Initial Extent:
XMin: 398868.6
YMin: 4032377.4
XMax: 450254.39999999997
YMax: 4088884.8
Spatial Reference: 26915
(26915)
Full Extent:
XMin: 398868.6
YMin: 4032377.4
XMax: 450254.39999999997
YMax: 4088884.8
Spatial Reference: 26915
(26915)
Pixel Size X: 0.5999999999999999
Pixel Size Y: 0.599999999999999
Band Count: 3
Pixel Type: U8
RasterFunction Infos: {"rasterFunctionInfos": [{
"name": "None",
"description": "",
"help": ""
}]}
Mensuration Capabilities: Basic
Has Histograms: true
Has Colormap: false
Has Multi Dimensions : false
Rendering Rule:
Min Scale: 0
Max Scale: 0
Copyright Text:
Service Data Type: esriImageServiceDataTypeRGB
Min Values: 0, 0, 0
Max Values: 255, 255, 255
Mean Values: 94.646515382886, 107.02751723735, 84.702912908031
Standard Deviation Values: 34.212530685425, 33.059088675513, 25.573823853993
Object ID Field:
Fields:
None
Default Mosaic Method: Center
Allowed Mosaic Methods:
SortField:
SortValue: null
Mosaic Operator: First
Default Compression Quality: 75
Default Resampling Method: Bilinear
Max Record Count: null
Max Image Height: 4100
Max Image Width: 15000
Max Download Image Count: null
Max Mosaic Image Count: null
Allow Raster Function: true
Allow Copy: null
Allow Analysis: null
Allow Compute TiePoints: false
Supports Statistics: false
Supports Advanced Queries: false
Use StandardizedQueries: true
Raster Type Infos:
Name: Raster Dataset
Description: Supports all ArcGIS Raster Datasets
Help:
Has Raster Attribute Table: false
Edit Fields Info: null
Ownership Based AccessControl For Rasters: null
Child Resources:
Info
Histograms
Key Properties
Legend
Raster Function Infos
Supported Operations:
Export Image
Identify
Measure
Compute Histograms
Compute Statistics Histograms
Get Samples
Compute Class Statistics
Query Boundary
Compute Pixel Location
Validate
Project