View In:
ArcGIS JavaScript
ArcGIS Online Map Viewer
ArcGIS Earth
ArcMap
View Footprint In:
ArcGIS Online Map Viewer
Service Description: 2022 Cape Girardeau County Imagery mosaic published by MSDIS
Name: CapeCounty/CapeCountyImagery_2022
Description: 2022 Cape Girardeau County Imagery mosaic published by MSDIS
Single Fused Map Cache: false
Extent:
XMin: 995342.3012794303
YMin: 463933.9841229283
XMax: 1142863.9254617658
YMax: 654527.378446069
Spatial Reference: PROJCS["NAD83_Missouri_East_ft",GEOGCS["GCS_North_American_1983",DATUM["D_NORTH_AMERICAN_1983",SPHEROID["GRS_1980",6378137.0,298.257222101]],PRIMEM["Greenwich",0.0],UNIT["Degree",0.0174532925199433]],PROJECTION["Transverse_Mercator"],PARAMETER["false_easting",820208.3333333334],PARAMETER["false_northing",0.0],PARAMETER["central_meridian",-90.5],PARAMETER["scale_factor",0.99993333],PARAMETER["latitude_of_origin",35.83333333333334],UNIT["Foot_US",0.3048006096012192]]
Initial Extent:
XMin: 995342.3012794303
YMin: 463933.9841229283
XMax: 1142863.9254617658
YMax: 654527.378446069
Spatial Reference: PROJCS["NAD83_Missouri_East_ft",GEOGCS["GCS_North_American_1983",DATUM["D_NORTH_AMERICAN_1983",SPHEROID["GRS_1980",6378137.0,298.257222101]],PRIMEM["Greenwich",0.0],UNIT["Degree",0.0174532925199433]],PROJECTION["Transverse_Mercator"],PARAMETER["false_easting",820208.3333333334],PARAMETER["false_northing",0.0],PARAMETER["central_meridian",-90.5],PARAMETER["scale_factor",0.99993333],PARAMETER["latitude_of_origin",35.83333333333334],UNIT["Foot_US",0.3048006096012192]]
Full Extent:
XMin: 995342.3012794303
YMin: 463933.9841229283
XMax: 1142863.9254617658
YMax: 654527.378446069
Spatial Reference: PROJCS["NAD83_Missouri_East_ft",GEOGCS["GCS_North_American_1983",DATUM["D_NORTH_AMERICAN_1983",SPHEROID["GRS_1980",6378137.0,298.257222101]],PRIMEM["Greenwich",0.0],UNIT["Degree",0.0174532925199433]],PROJECTION["Transverse_Mercator"],PARAMETER["false_easting",820208.3333333334],PARAMETER["false_northing",0.0],PARAMETER["central_meridian",-90.5],PARAMETER["scale_factor",0.99993333],PARAMETER["latitude_of_origin",35.83333333333334],UNIT["Foot_US",0.3048006096012192]]
Pixel Size X: 0.9835758521341171
Pixel Size Y: 0.9835758521341171
Band Count: 3
Pixel Type: U8
RasterFunction Infos: {"rasterFunctionInfos": [{
"name": "None",
"description": "",
"help": ""
}]}
Mensuration Capabilities: Basic
Has Histograms: false
Has Colormap: false
Has Multi Dimensions : false
Rendering Rule:
Min Scale: 0
Max Scale: 0
Copyright Text: MSDIS
Service Data Type: esriImageServiceDataTypeRGB
Min Values: N/A
Max Values: N/A
Mean Values: N/A
Standard Deviation Values: N/A
Object ID Field:
Fields:
None
Default Mosaic Method: Center
Allowed Mosaic Methods:
SortField:
SortValue: null
Mosaic Operator: First
Default Compression Quality: 75
Default Resampling Method: Bilinear
Max Record Count: null
Max Image Height: 4100
Max Image Width: 15000
Max Download Image Count: null
Max Mosaic Image Count: null
Allow Raster Function: true
Allow Copy: null
Allow Analysis: null
Allow Compute TiePoints: false
Supports Statistics: false
Supports Advanced Queries: false
Use StandardizedQueries: true
Raster Type Infos:
Name: Raster Dataset
Description: Supports all ArcGIS Raster Datasets
Help:
Has Raster Attribute Table: false
Edit Fields Info: null
Ownership Based AccessControl For Rasters: null
Child Resources:
Info
Key Properties
Legend
Raster Function Infos
Supported Operations:
Export Image
Identify
Measure
Compute Histograms
Compute Statistics Histograms
Get Samples
Compute Class Statistics
Query Boundary
Compute Pixel Location
Validate
Project