View In:
ArcGIS JavaScript
ArcGIS Online Map Viewer
ArcGIS Earth
ArcMap
View Footprint In:
ArcGIS Online Map Viewer
Service Description: 2023 Tegeler to Bland Imagery
Name: Ameren/20230525_Tegler_Bland_Aerial
Description: 2023 Tegeler to Bland Imagery
Single Fused Map Cache: false
Extent:
XMin: 534909.1369825891
YMin: 929447.3831578487
XMax: 588484.7374825892
YMax: 949823.8733578487
Spatial Reference: 102696
(102696)
Initial Extent:
XMin: 534909.1369825891
YMin: 929447.3831578487
XMax: 588484.7374825892
YMax: 949823.8733578487
Spatial Reference: 102696
(102696)
Full Extent:
XMin: 534909.1369825891
YMin: 929447.3831578487
XMax: 588484.7374825892
YMax: 949823.8733578487
Spatial Reference: 102696
(102696)
Pixel Size X: 0.0843000000000001
Pixel Size Y: 0.0843
Band Count: 4
Pixel Type: U8
RasterFunction Infos: {"rasterFunctionInfos": [{
"name": "None",
"description": "",
"help": ""
}]}
Mensuration Capabilities:
Has Histograms: false
Has Colormap: false
Has Multi Dimensions : false
Rendering Rule:
Min Scale: 0
Max Scale: 0
Copyright Text:
Service Data Type: esriImageServiceDataTypeGeneric
Min Values: N/A
Max Values: N/A
Mean Values: N/A
Standard Deviation Values: N/A
Object ID Field:
Fields:
None
Default Mosaic Method: Center
Allowed Mosaic Methods:
SortField:
SortValue: null
Mosaic Operator: First
Default Compression Quality: 75
Default Resampling Method: Bilinear
Max Record Count: null
Max Image Height: 4100
Max Image Width: 15000
Max Download Image Count: null
Max Mosaic Image Count: null
Allow Raster Function: true
Allow Copy: null
Allow Analysis: null
Allow Compute TiePoints: false
Supports Statistics: false
Supports Advanced Queries: false
Use StandardizedQueries: true
Raster Type Infos:
Name: Raster Dataset
Description: Supports all ArcGIS Raster Datasets
Help:
Has Raster Attribute Table: false
Edit Fields Info: null
Ownership Based AccessControl For Rasters: null
Child Resources:
Info
Key Properties
Legend
Raster Function Infos
Supported Operations:
Export Image
Identify
Measure
Compute Histograms
Compute Statistics Histograms
Get Samples
Compute Class Statistics
Query Boundary
Compute Pixel Location
Validate
Project