<?xml version="1.0" encoding="UTF-8" standalone="no"?>
<metadata>
<idinfo>
<citation>
<citeinfo>
<origin>State of Ohio Office of Information Technology, Ohio Geographically Referenced Information Program</origin>
<pubdate>20201104</pubdate>
<title>Pike_2020_rgb_20x.sid</title>
<geoform>raster digital file</geoform>
</citeinfo>
</citation>
<descript>
<abstract>2020 OSIP Base Digital Orthoimagery Project – The OSIP project is divided into four (4) project areas. Area 1 is the northeast zone and performed in 2017. Area 2 is the western zone and performed in 2018. Area 3 is the central zone and performed in 2019. Area 4 is the southeast zone and performed in 2020.
The new 3-band orthoimagery will encompass the entire land area of the State of Ohio (+/- 41,276 square miles). The tile border will be 1,000 feet beyond the state boundary with the following exceptions. The tile border with the states of Kentucky and West Virginia along the Ohio River shall be buffered a minimum distance of 1,000 feet or to the opposite river bank, whichever distance is greater. Border areas of the State proximate to Lake Erie, as well as islands, shall be buffered beyond the shoreline a minimum distance of 2,500 feet.
The aerial imagery was collected during leaf-off conditions at a minimum resolution of 0.5-foot. The orthos are delivered as countywide datasets, consisting of 5,000' x 5,000' uncompressed 8-bit, 3-band color geotiff files. Adjacent flight lines overlap by an average of 30 percent. Imagery was collected with VisionMap A3 Edge digital camera systems and rectified using existing lidar data. The file naming convention is as follows: nxxxxyyy (Ohio North Zone) and sxxxxyyy (Ohio South Zone); Please note that xxxx and yyy represent the easting and northing coordinates (respectively) in state plane feet. The naming convention is based upon the previous OSIP project. Ownership of the data products resides with OGRIP and the state of Ohio. Orthoimagery and ancillary data products produced through this contract are public domain data.</abstract>
<purpose>The State of Ohio has a goal to develop and/or update certain geospatial data sets for use by state government agencies, other levels of government, academia, and the general public, and to provide these data sets for inclusion to OGRIP. OGRIP is a resource for geographic information technology users inside Ohio and beyond. Funds for the statewide orthoimagery program will come from state agencies.</purpose>
</descript>
<timeperd>
<timeinfo>
<sngdate>
<caldate>20200221</caldate>
</sngdate>
</timeinfo>
<current>ground condition</current>
</timeperd>
<status>
<progress>Complete</progress>
<update>As needed</update>
</status>
<spdom>
<bounding>
<westbc>-83.394606</westbc>
<eastbc>-82.776011</eastbc>
<northbc>39.207746</northbc>
<southbc>38.943803</southbc>
</bounding>
</spdom>
<keywords>
<theme>
<themekt>None</themekt>
<themekey>Raster</themekey>
<themekey>Orthophoto</themekey>
<themekey>MrSID</themekey>
</theme>
<place>
<placekt>None</placekt>
<placekey>United States</placekey>
<placekey>Ohio</placekey>
</place>
</keywords>
<accconst>This data set is in the public domain, and the recipient may not assert any proprietary rights thereto nor represent it to any one as other than a data set produced by the Ohio Statewide Imagery Program.</accconst>
<useconst>This data is for planning purposes only and should not be used for legal or cadastral purposes. This data set is provided "as-is" without warranty of any kind, including, but not limited to, the implied warranties of merchantability and fitness for a particular purpose. User must assume responsibility for determining the suitability of these data for their purposes.</useconst>
<ptcontac>
<cntinfo>
<cntorgp>
<cntorg>OGRIP</cntorg>
</cntorgp>
<cntpos>GIS Manager</cntpos>
<cntaddr>
<addrtype>mailing and physical address</addrtype>
<address>77 S. High St. - Rm 1990</address>
<city>Columbus</city>
<state>OH</state>
<postal>43215</postal>
<country>USA</country>
</cntaddr>
<cntvoice>(614) 466-4747</cntvoice>
<cntfax>(614) 728-5297</cntfax>
</cntinfo>
</ptcontac>
<native>Esri ArcGIS 10.7</native>
</idinfo>
<dataqual>
<logic>All formatted data are validated using commercial GIS software to ensure proper formatting and loading prior to delivery.</logic>
<complete>The dataset is complete.</complete>
<posacc>
<horizpa>
<horizpar>The orthoimagery meets ±3.7 feet horizontal accuracy. </horizpar>
</horizpa>
</posacc>
<lineage>
<procstep>
<procdesc>The VisionMap A3 EDGE Aerial Camera System is a large format frame-based sensor, collecting 12-bit RGB data. The sensor is capable of collecting multiple spectral bands and angles simultaneously at image pixel resolutions as small as 5 cm using the side-stepping gimbal technology. VisionMap's A3 Edge contains dual 300mm focal length telescopes that are optimized for capturing high altitude RGB and/or RGBNIR imagery. The A3 Edge camera system has no ITAR restriction concerns. The imagery for this task order was acquired using the VisionMap A3 Edge camera system. The airborne GPS data were reduced using Waypoint's POSGNSS software package. All of the source imagery was processed using the VisionMaps's LightSpeed software package. This package provides the capability to perform digital image processing, aerial triangulation, image rectification and mosaicking. The image frames were ortho rectified to existing lidar digital elevation model (DEM) data.</procdesc>
<procdate>20201104</procdate>
<proccont>
<cntinfo>
<cntorgp>
<cntorg>Woolpert</cntorg>
</cntorgp>
<cntpos>Geospatial Services</cntpos>
<cntaddr>
<addrtype>mailing and physical address</addrtype>
<address>4454 Idea Center Blvd.</address>
<city>Dayton</city>
<state>OH</state>
<postal>45430</postal>
<country>USA</country>
</cntaddr>
<cntvoice>(937) 461-5660</cntvoice>
<cntfax>(937) 461-0743</cntfax>
<hours>8:00 a.m. to 5:00 p.m. Eastern Time</hours>
</cntinfo>
</proccont>
</procstep>
<procstep>
<procdesc>The individual rectified frames of ortho rectified imagery were mosaicked together to form a seamless imagery database over the entire task order area. OrthoVista software was used for the final imagery processing and tiling. Final orthophoto non-overlapping tiles were produced in GeoTIFF format (with World files) using a cell size of 6-inch and a tile size of 5,000’ x 5,000’.</procdesc>
<procdate>20201104</procdate>
<proccont>
<cntinfo>
<cntorgp>
<cntorg>Woolpert</cntorg>
</cntorgp>
<cntpos>Geospatial Services</cntpos>
<cntaddr>
<addrtype>mailing and physical address</addrtype>
<address>4454 Idea Center Blvd.</address>
<city>Dayton</city>
<state>OH</state>
<postal>45430</postal>
<country>USA</country>
</cntaddr>
<cntvoice>(937) 461-5660</cntvoice>
<hours>8:00 a.m. to 5:00 p.m. Eastern Time</hours>
</cntinfo>
</proccont>
</procstep>
<procstep>
<procdesc>In addition to the 6-inch pixel GeoTIFF data set, Woolpert provided the MrSID (Multi resolution Seamless Image Database) imagery. For this task order, orthoimage tiles are combined and compressed into countywide color MrSID images (20x and 100x compressions).
</procdesc>
<procdate>20201104</procdate>
<proccont>
<cntinfo>
<cntorgp>
<cntorg>Woolpert</cntorg>
</cntorgp>
<cntpos>Geospatial Services</cntpos>
<cntaddr>
<addrtype>mailing and physical address</addrtype>
<address>4454 Idea Center Blvd.</address>
<city>Dayton</city>
<state>OH</state>
<postal>45430</postal>
<country>USA</country>
</cntaddr>
<cntvoice>(937) 461-5660</cntvoice>
<hours>8:00 a.m. to 5:00 p.m. Eastern Time</hours>
</cntinfo>
</proccont>
</procstep>
</lineage>
</dataqual>
<spdoinfo>
<direct>Raster</direct>
<rastinfo>
<rasttype>Pixel</rasttype>
<rowcount>190000</rowcount>
<colcount>350000</colcount>
</rastinfo>
</spdoinfo>
<spref>
<horizsys>
<planar>
<mapproj>
<mapprojn>NAD 1983 HARN StatePlane Ohio South FIPS 3402 Feet</mapprojn>
<lambertc>
<stdparll>38.73333333333333</stdparll>
<stdparll>40.03333333333333</stdparll>
<longcm>-82.5</longcm>
<latprjo>38.0</latprjo>
<feast>1968500.0</feast>
<fnorth>0.0</fnorth>
</lambertc>
</mapproj>
<planci>
<plance>row and column</plance>
<coordrep>
<absres>0.5</absres>
<ordres>0.5</ordres>
</coordrep>
<plandu>foot_us</plandu>
</planci>
</planar>
<geodetic>
<horizdn>D North American 1983 HARN</horizdn>
<ellips>GRS 1980</ellips>
<semiaxis>6378137.0</semiaxis>
<denflat>298.257222101</denflat>
</geodetic>
</horizsys>
</spref>
<distinfo>
<distrib>
<cntinfo>
<cntorgp>
<cntorg>OGRIP</cntorg>
</cntorgp>
<cntpos>GIS Manager</cntpos>
<cntaddr>
<addrtype>mailing and physical address</addrtype>
<address>77 S. High St. - Rm 1990</address>
<city>Columbus</city>
<state>OH</state>
<postal>43215</postal>
<country>USA</country>
</cntaddr>
<cntvoice>(614) 466-4747</cntvoice>
<cntfax>(614) 728-5297</cntfax>
</cntinfo>
</distrib>
<resdesc>Downloadable Data</resdesc>
<distliab>The information contained in these data is dynamic and may change over time. The data are not better than the original sources from which they were derived. It is the responsibility of the data user to use the data appropriately and within the limitations of the data for which it was requested and prepared, in general, and these data in particular. The related graphics are intended to aid the data user in acquiring relevant data. It is not appropriate to use the related graphics as data. Woolpert gives no warranty, expressed or implied, as to the accuracy, reliability, or completeness of these data. It is strongly recommended that these data are directly acquired from a Woolpert server, and not indirectly through other sources which may have changed the data in some way. Although these data have been processed successfully upon Woolpert’s computer system, no warranty, expressed or implied, is made regarding the utility of the data on another system, or for general or scientific purposes; nor shall the act of distribution constitute any such warranty. This disclaimer applies both to individual use of the data and aggregate use with other data.</distliab>
<stdorder>
<digform>
<digtinfo>
<formname>SID</formname>
<transize>9512.94987106</transize>
</digtinfo>
<digtopt>
<onlinopt>
<computer>
<networka>
<networkr>http://ogrip.oit.ohio.gov/ServicesData/StatewideImagery/tabid/86/Default.aspx</networkr>
</networka>
</computer>
</onlinopt>
</digtopt>
</digform>
<fees>None</fees>
</stdorder>
</distinfo>
<metainfo>
<metd>20201104</metd>
<metc>
<cntinfo>
<cntorgp>
<cntorg>OGRIP</cntorg>
</cntorgp>
<cntpos>GIS Manager</cntpos>
<cntaddr>
<addrtype>mailing and physical address</addrtype>
<address>77 S. High St. - Rm 1990</address>
<city>Columbus</city>
<state>OH</state>
<postal>43215</postal>
<country>USA</country>
</cntaddr>
<cntvoice>(614) 466-4747</cntvoice>
<cntfax>(614) 728-5297</cntfax>
</cntinfo>
</metc>
<metstdn>FGDC Content Standards for Digital Geospatial Metadata</metstdn>
<metstdv>FGDC-STD-001-1998</metstdv>
<mettc>local time</mettc>
</metainfo>
<dataIdInfo>
<idAbs>2020 OSIP Base Digital Orthoimagery Project – The OSIP project is divided into four (4) project areas. Area 1 is the northeast zone and performed in 2017. Area 2 is the western zone and performed in 2018. Area 3 is the central zone and performed in 2019. Area 4 is the southeast zone and performed in 2020.
The new 3-band orthoimagery will encompass the entire land area of the State of Ohio (+/- 41,276 square miles). The tile border will be 1,000 feet beyond the state boundary with the following exceptions. The tile border with the states of Kentucky and West Virginia along the Ohio River shall be buffered a minimum distance of 1,000 feet or to the opposite river bank, whichever distance is greater. Border areas of the State proximate to Lake Erie, as well as islands, shall be buffered beyond the shoreline a minimum distance of 2,500 feet.
The aerial imagery was collected during leaf-off conditions at a minimum resolution of 0.5-foot. The orthos are delivered as countywide datasets, consisting of 5,000' x 5,000' uncompressed 8-bit, 3-band color geotiff files. Adjacent flight lines overlap by an average of 30 percent. Imagery was collected with VisionMap A3 Edge digital camera systems and rectified using existing lidar data. The file naming convention is as follows: nxxxxyyy (Ohio North Zone) and sxxxxyyy (Ohio South Zone); Please note that xxxx and yyy represent the easting and northing coordinates (respectively) in state plane feet. The naming convention is based upon the previous OSIP project. Ownership of the data products resides with OGRIP and the state of Ohio. Orthoimagery and ancillary data products produced through this contract are public domain data.</idAbs>
<searchKeys>
<keyword>United States</keyword>
<keyword>Ohio</keyword>
<keyword>Raster</keyword>
<keyword>Orthophoto</keyword>
<keyword>MrSID</keyword>
</searchKeys>
<idPurp>The State of Ohio has a goal to develop and/or update certain geospatial data sets for use by state government agencies, other levels of government, academia,...</idPurp>
<idCredit/>
<resConst>
<Consts>
<useLimit/>
</Consts>
</resConst>
<idCitation>
<resTitle>Pike_2020_rgb_20x.sid</resTitle>
</idCitation>
</dataIdInfo>
</metadata>
