{
 "currentVersion": 10.81,
 "serviceDescription": "Morrisville, Mo Imagery",
 "mapName": "Layers",
 "description": "",
 "copyrightText": "",
 "supportsDynamicLayers": true,
 "layers": [
  {
   "id": 0,
   "name": "M3709337",
   "parentLayerId": -1,
   "defaultVisibility": true,
   "subLayerIds": null,
   "minScale": 0,
   "maxScale": 0,
   "type": "Raster Layer"
  }
 ],
 "tables": [],
 "spatialReference": {
  "wkid": 102698,
  "latestWkid": 102698
 },
 "singleFusedMapCache": true,
 "tileInfo": {
  "rows": 256,
  "cols": 256,
  "dpi": 96,
  "format": "MIXED",
  "compressionQuality": 75,
  "origin": {
   "x": -15658800,
   "y": 19677400
  },
  "spatialReference": {
   "wkid": 102698,
   "latestWkid": 102698
  },
  "lods": [
   {
    "level": 0,
    "resolution": 108.50694444444444,
    "scale": 125000
   },
   {
    "level": 1,
    "resolution": 55.55555555555555,
    "scale": 64000
   },
   {
    "level": 2,
    "resolution": 27.777777777777775,
    "scale": 32000
   },
   {
    "level": 3,
    "resolution": 13.888888888888888,
    "scale": 16000
   },
   {
    "level": 4,
    "resolution": 6.944444444444444,
    "scale": 8000
   },
   {
    "level": 5,
    "resolution": 3.472222222222222,
    "scale": 4000
   },
   {
    "level": 6,
    "resolution": 1.736111111111111,
    "scale": 2000
   },
   {
    "level": 7,
    "resolution": 0.8680555555555555,
    "scale": 1000
   }
  ]
 },
 "initialExtent": {
  "xmin": 3061808.951048332,
  "ymin": 457138.9264078751,
  "xmax": 3131045.062159443,
  "ymax": 491097.25974120834,
  "spatialReference": {
   "wkid": 102698,
   "latestWkid": 102698
  }
 },
 "fullExtent": {
  "xmin": 3077894.497002209,
  "ymin": 440608.0859524335,
  "xmax": 3116463.317502209,
  "ymax": 488212.3214524332,
  "spatialReference": {
   "wkid": 102698,
   "latestWkid": 102698
  }
 },
 "minScale": 125000,
 "maxScale": 1000,
 "units": "esriFeet",
 "supportedImageFormatTypes": "PNG32,PNG24,PNG,JPG,DIB,TIFF,EMF,PS,PDF,GIF,SVG,SVGZ,BMP",
 "documentInfo": {
  "Title": "Morrisville, Mo Imagery",
  "Author": "APS; SLJ",
  "Comments": "Morrisville, Mo Imagery",
  "Subject": "Morrisville, Mo Imagery",
  "Category": "",
  "AntialiasingMode": "None",
  "TextAntialiasingMode": "Force",
  "Keywords": "Morrisville,Mo Imagery"
 },
 "capabilities": "Map,Query,Data",
 "supportedQueryFormats": "JSON, geoJSON",
 "exportTilesAllowed": true,
 "maxExportTilesCount": 100000,
 "referenceScale": 0,
 "supportsDatumTransformation": true,
 "maxRecordCount": 1000,
 "maxImageHeight": 4096,
 "maxImageWidth": 4096,
 "supportedExtensions": ""
}
