{
 "currentVersion": 10.81,
 "serviceDescription": "JohnsonPulaski911/PulaskiImagery_2022",
 "name": "JohnsonPulaski911/PulaskiImagery_2022",
 "description": "",
 "extent": {
  "xmin": 2556521.083,
  "ymin": 146823.562,
  "xmax": 2657772.583,
  "ymax": 245316.312,
  "spatialReference": {
   "wkid": 103038,
   "latestWkid": 6457
  }
 },
 "initialExtent": {
  "xmin": 2556521.083,
  "ymin": 146823.562,
  "xmax": 2657772.583,
  "ymax": 245316.312,
  "spatialReference": {
   "wkid": 103038,
   "latestWkid": 6457
  }
 },
 "fullExtent": {
  "xmin": 2556521.083,
  "ymin": 146823.562,
  "xmax": 2657772.583,
  "ymax": 245316.312,
  "spatialReference": {
   "wkid": 103038,
   "latestWkid": 6457
  }
 },
 "pixelSizeX": 0.25,
 "pixelSizeY": 0.25,
 "bandCount": 3,
 "pixelType": "U8",
 "minPixelSize": 0,
 "maxPixelSize": 0,
 "copyrightText": "",
 "serviceDataType": "esriImageServiceDataTypeRGB",
 "minValues": [
  0,
  0,
  0
 ],
 "maxValues": [
  254,
  254,
  254
 ],
 "meanValues": [
  153.8050381087,
  154.34676138541,
  143.7707666728
 ],
 "stdvValues": [
  62.109747498112,
  64.561423966084,
  64.167923312876
 ],
 "objectIdField": "",
 "fields": [],
 "capabilities": "Image,Metadata,Mensuration",
 "defaultMosaicMethod": "Center",
 "allowedMosaicMethods": "",
 "sortField": "",
 "sortValue": null,
 "sortAscending": true,
 "mosaicOperator": "First",
 "defaultCompressionQuality": 75,
 "defaultResamplingMethod": "Bilinear",
 "maxImageHeight": 4100,
 "maxImageWidth": 15000,
 "allowRasterFunction": true,
 "rasterFunctionInfos": [
  {
   "name": "None",
   "description": "",
   "help": ""
  }
 ],
 "rasterTypeInfos": [
  {
   "name": "Raster Dataset",
   "description": "Supports all ArcGIS Raster Datasets",
   "help": ""
  }
 ],
 "mensurationCapabilities": "Basic",
 "hasHistograms": true,
 "hasColormap": false,
 "hasRasterAttributeTable": false,
 "minScale": 0,
 "maxScale": 0,
 "exportTilesAllowed": false,
 "hasMultidimensions": false,
 "supportsStatistics": false,
 "supportsAdvancedQueries": false,
 "editFieldsInfo": null,
 "ownershipBasedAccessControlForRasters": null,
 "allowComputeTiePoints": false,
 "useStandardizedQueries": true,
 "advancedQueryCapabilities": {
  "useStandardizedQueries": true,
  "supportsStatistics": false,
  "supportsOrderBy": false,
  "supportsDistinct": false,
  "supportsPagination": false
 },
 "spatialReference": {
  "wkid": 103038,
  "latestWkid": 6457
 }
}
