{
 "currentVersion": 10.81,
 "serviceDescription": "2022 Johnson County IL 3inch Imagery",
 "name": "JohnsonPulaski911/JohnsonCoIL_3in_2022",
 "description": "2022 Johnson County IL 3inch Imagery",
 "extent": {
  "xmin": 777303.9694907442,
  "ymin": 229242.52159132063,
  "xmax": 875544.2194907442,
  "ymax": 340435.27159132063,
  "spatialReference": {
   "wkt": "PROJCS[\"TMILLEFT83\",GEOGCS[\"GCS_North_American_1983\",DATUM[\"D_North_American_1983\",SPHEROID[\"GRS_1980\",6378137.0,298.257222101]],PRIMEM[\"Greenwich\",0.0],UNIT[\"Degree\",0.0174532925199433]],PROJECTION[\"Transverse_Mercator\"],PARAMETER[\"false_easting\",984249.9998],PARAMETER[\"false_northing\",0.0],PARAMETER[\"central_meridian\",-88.33333328014425],PARAMETER[\"scale_factor\",0.999975],PARAMETER[\"latitude_of_origin\",36.66666672026184],UNIT[\"Foot_US\",0.3048006096012192]]"
  }
 },
 "initialExtent": {
  "xmin": 777303.9694907442,
  "ymin": 229242.52159132063,
  "xmax": 875544.2194907442,
  "ymax": 340435.27159132063,
  "spatialReference": {
   "wkt": "PROJCS[\"TMILLEFT83\",GEOGCS[\"GCS_North_American_1983\",DATUM[\"D_North_American_1983\",SPHEROID[\"GRS_1980\",6378137.0,298.257222101]],PRIMEM[\"Greenwich\",0.0],UNIT[\"Degree\",0.0174532925199433]],PROJECTION[\"Transverse_Mercator\"],PARAMETER[\"false_easting\",984249.9998],PARAMETER[\"false_northing\",0.0],PARAMETER[\"central_meridian\",-88.33333328014425],PARAMETER[\"scale_factor\",0.999975],PARAMETER[\"latitude_of_origin\",36.66666672026184],UNIT[\"Foot_US\",0.3048006096012192]]"
  }
 },
 "fullExtent": {
  "xmin": 777303.9694907442,
  "ymin": 229242.52159132063,
  "xmax": 875544.2194907442,
  "ymax": 340435.27159132063,
  "spatialReference": {
   "wkt": "PROJCS[\"TMILLEFT83\",GEOGCS[\"GCS_North_American_1983\",DATUM[\"D_North_American_1983\",SPHEROID[\"GRS_1980\",6378137.0,298.257222101]],PRIMEM[\"Greenwich\",0.0],UNIT[\"Degree\",0.0174532925199433]],PROJECTION[\"Transverse_Mercator\"],PARAMETER[\"false_easting\",984249.9998],PARAMETER[\"false_northing\",0.0],PARAMETER[\"central_meridian\",-88.33333328014425],PARAMETER[\"scale_factor\",0.999975],PARAMETER[\"latitude_of_origin\",36.66666672026184],UNIT[\"Foot_US\",0.3048006096012192]]"
  }
 },
 "pixelSizeX": 0.25,
 "pixelSizeY": 0.25,
 "bandCount": 3,
 "pixelType": "U8",
 "minPixelSize": 0,
 "maxPixelSize": 0,
 "copyrightText": "",
 "serviceDataType": "esriImageServiceDataTypeRGB",
 "minValues": [
  0,
  0,
  0
 ],
 "maxValues": [
  255,
  255,
  255
 ],
 "meanValues": [
  133.13742671506,
  122.41729807375,
  96.882599968793
 ],
 "stdvValues": [
  43.811216977204,
  42.665509292137,
  37.63506170135
 ],
 "objectIdField": "",
 "fields": [],
 "capabilities": "Image,Metadata,Mensuration",
 "defaultMosaicMethod": "Center",
 "allowedMosaicMethods": "",
 "sortField": "",
 "sortValue": null,
 "sortAscending": true,
 "mosaicOperator": "First",
 "defaultCompressionQuality": 75,
 "defaultResamplingMethod": "Bilinear",
 "maxImageHeight": 4100,
 "maxImageWidth": 15000,
 "allowRasterFunction": true,
 "rasterFunctionInfos": [
  {
   "name": "None",
   "description": "",
   "help": ""
  }
 ],
 "rasterTypeInfos": [
  {
   "name": "Raster Dataset",
   "description": "Supports all ArcGIS Raster Datasets",
   "help": ""
  }
 ],
 "mensurationCapabilities": "Basic",
 "hasHistograms": true,
 "hasColormap": false,
 "hasRasterAttributeTable": false,
 "minScale": 0,
 "maxScale": 0,
 "exportTilesAllowed": false,
 "hasMultidimensions": false,
 "supportsStatistics": false,
 "supportsAdvancedQueries": false,
 "editFieldsInfo": null,
 "ownershipBasedAccessControlForRasters": null,
 "allowComputeTiePoints": false,
 "useStandardizedQueries": true,
 "advancedQueryCapabilities": {
  "useStandardizedQueries": true,
  "supportsStatistics": false,
  "supportsOrderBy": false,
  "supportsDistinct": false,
  "supportsPagination": false
 },
 "spatialReference": {
  "wkt": "PROJCS[\"TMILLEFT83\",GEOGCS[\"GCS_North_American_1983\",DATUM[\"D_North_American_1983\",SPHEROID[\"GRS_1980\",6378137.0,298.257222101]],PRIMEM[\"Greenwich\",0.0],UNIT[\"Degree\",0.0174532925199433]],PROJECTION[\"Transverse_Mercator\"],PARAMETER[\"false_easting\",984249.9998],PARAMETER[\"false_northing\",0.0],PARAMETER[\"central_meridian\",-88.33333328014425],PARAMETER[\"scale_factor\",0.999975],PARAMETER[\"latitude_of_origin\",36.66666672026184],UNIT[\"Foot_US\",0.3048006096012192]]"
 }
}
