{
 "currentVersion": 10.81,
 "serviceDescription": "2022 Ellisville, MO 3in Imagery",
 "name": "EllisvilleMO/EllisvilleMo_3in_2022",
 "description": "2022 Ellisville, MO 3in Imagery",
 "extent": {
  "xmin": 785174.5,
  "ymin": 990042,
  "xmax": 807675,
  "ymax": 1015043,
  "spatialReference": {
   "wkt": "PROJCS[\"NAD_1983_2011_StatePlane_Missouri_East_FIPS_2401_Feet\",GEOGCS[\"GCS_NAD83_2011\",DATUM[\"D_NAD83_National_Spatial_Reference_System_2011\",SPHEROID[\"GRS_1980\",6378137.0,298.257222101]],PRIMEM[\"Greenwich\",0.0],UNIT[\"Degree\",0.0174532925199433]],PROJECTION[\"Transverse_Mercator\"],PARAMETER[\"false_easting\",820208.3333333334],PARAMETER[\"false_northing\",0.0],PARAMETER[\"central_meridian\",-90.5],PARAMETER[\"scale_factor\",0.9999333333333333],PARAMETER[\"latitude_of_origin\",35.83333333333334],UNIT[\"Foot_US\",0.3048006096012192]]"
  }
 },
 "initialExtent": {
  "xmin": 785174.5,
  "ymin": 990042,
  "xmax": 807675,
  "ymax": 1015043,
  "spatialReference": {
   "wkt": "PROJCS[\"NAD_1983_2011_StatePlane_Missouri_East_FIPS_2401_Feet\",GEOGCS[\"GCS_NAD83_2011\",DATUM[\"D_NAD83_National_Spatial_Reference_System_2011\",SPHEROID[\"GRS_1980\",6378137.0,298.257222101]],PRIMEM[\"Greenwich\",0.0],UNIT[\"Degree\",0.0174532925199433]],PROJECTION[\"Transverse_Mercator\"],PARAMETER[\"false_easting\",820208.3333333334],PARAMETER[\"false_northing\",0.0],PARAMETER[\"central_meridian\",-90.5],PARAMETER[\"scale_factor\",0.9999333333333333],PARAMETER[\"latitude_of_origin\",35.83333333333334],UNIT[\"Foot_US\",0.3048006096012192]]"
  }
 },
 "fullExtent": {
  "xmin": 785174.5,
  "ymin": 990042,
  "xmax": 807675,
  "ymax": 1015043,
  "spatialReference": {
   "wkt": "PROJCS[\"NAD_1983_2011_StatePlane_Missouri_East_FIPS_2401_Feet\",GEOGCS[\"GCS_NAD83_2011\",DATUM[\"D_NAD83_National_Spatial_Reference_System_2011\",SPHEROID[\"GRS_1980\",6378137.0,298.257222101]],PRIMEM[\"Greenwich\",0.0],UNIT[\"Degree\",0.0174532925199433]],PROJECTION[\"Transverse_Mercator\"],PARAMETER[\"false_easting\",820208.3333333334],PARAMETER[\"false_northing\",0.0],PARAMETER[\"central_meridian\",-90.5],PARAMETER[\"scale_factor\",0.9999333333333333],PARAMETER[\"latitude_of_origin\",35.83333333333334],UNIT[\"Foot_US\",0.3048006096012192]]"
  }
 },
 "pixelSizeX": 0.5,
 "pixelSizeY": 0.5,
 "bandCount": 5,
 "pixelType": "U8",
 "minPixelSize": 0,
 "maxPixelSize": 0,
 "copyrightText": "",
 "serviceDataType": "esriImageServiceDataTypeGeneric",
 "minValues": [
  0,
  14,
  20,
  0,
  255
 ],
 "maxValues": [
  248,
  252,
  255,
  234,
  255
 ],
 "meanValues": [
  97.580125231911,
  91.495013914657,
  79.687152133581,
  113.88903061224,
  255
 ],
 "stdvValues": [
  26.055346920321,
  26.404801932989,
  24.730626533423,
  24.845759826222,
  0
 ],
 "objectIdField": "",
 "fields": [],
 "capabilities": "Image,Metadata,Mensuration",
 "defaultMosaicMethod": "Center",
 "allowedMosaicMethods": "",
 "sortField": "",
 "sortValue": null,
 "sortAscending": true,
 "mosaicOperator": "First",
 "defaultCompressionQuality": 75,
 "defaultResamplingMethod": "Bilinear",
 "maxImageHeight": 4100,
 "maxImageWidth": 15000,
 "allowRasterFunction": true,
 "rasterFunctionInfos": [
  {
   "name": "None",
   "description": "",
   "help": ""
  }
 ],
 "rasterTypeInfos": [
  {
   "name": "Raster Dataset",
   "description": "Supports all ArcGIS Raster Datasets",
   "help": ""
  }
 ],
 "mensurationCapabilities": "Basic",
 "hasHistograms": true,
 "hasColormap": false,
 "hasRasterAttributeTable": false,
 "minScale": 0,
 "maxScale": 0,
 "exportTilesAllowed": false,
 "hasMultidimensions": false,
 "supportsStatistics": false,
 "supportsAdvancedQueries": false,
 "editFieldsInfo": null,
 "ownershipBasedAccessControlForRasters": null,
 "allowComputeTiePoints": false,
 "useStandardizedQueries": true,
 "advancedQueryCapabilities": {
  "useStandardizedQueries": true,
  "supportsStatistics": false,
  "supportsOrderBy": false,
  "supportsDistinct": false,
  "supportsPagination": false
 },
 "spatialReference": {
  "wkt": "PROJCS[\"NAD_1983_2011_StatePlane_Missouri_East_FIPS_2401_Feet\",GEOGCS[\"GCS_NAD83_2011\",DATUM[\"D_NAD83_National_Spatial_Reference_System_2011\",SPHEROID[\"GRS_1980\",6378137.0,298.257222101]],PRIMEM[\"Greenwich\",0.0],UNIT[\"Degree\",0.0174532925199433]],PROJECTION[\"Transverse_Mercator\"],PARAMETER[\"false_easting\",820208.3333333334],PARAMETER[\"false_northing\",0.0],PARAMETER[\"central_meridian\",-90.5],PARAMETER[\"scale_factor\",0.9999333333333333],PARAMETER[\"latitude_of_origin\",35.83333333333334],UNIT[\"Foot_US\",0.3048006096012192]]"
 }
}
