{
 "currentVersion": 10.81,
 "serviceDescription": "This data set contains imagery from the National\nAgriculture Imagery Program (NAIP). The NAIP\nacquires digital ortho imagery during the\nagricultural growing seasons in the continental U.S..\nA primary goal of the NAIP program is to enable\navailability of ortho imagery within one year of\nacquisition. The NAIP provides two main products: 1\nmeter ground sample distance (GSD) ortho imagery\nrectified to a horizontal accuracy within +/- 5 meters\nof reference digital ortho quarter quads (DOQQ's) from\nthe National Digital Ortho Program (NDOP) or from the\nNational Agriculture Imagery Program (NAIP); 1 meter\nor 1/2 meter GSD ortho imagery rectified within +/- 6\nmeters to true ground. The tiling format of NAIP imagery is\nbased on a 3.75' x 3.75' quarter quadrangle with a 300\npixel buffer on all four sides. The NAIP imagery is\nformatted to the UTM coordinate system using the North\nAmerican Datum of 1983 (NAD83). The NAIP imagery may\ncontain as much as 10% cloud cover per tile. This file\nwas generated by compressing NAIP imagery that cover\nthe county extent. Two types of compression may be\nused for NAIP imagery: MrSID and JPEG 2000. The target\nvalue for the compression ratio is (15:1) for the 1 meter\nimagery and 60:1 for the 1/2 meter imagery.",
 "name": "CapeCounty/CapeCountyImagery2014",
 "description": "This data set contains imagery from the National\nAgriculture Imagery Program (NAIP). The NAIP\nacquires digital ortho imagery during the\nagricultural growing seasons in the continental U.S..\nA primary goal of the NAIP program is to enable\navailability of ortho imagery within one year of\nacquisition. The NAIP provides two main products: 1\nmeter ground sample distance (GSD) ortho imagery\nrectified to a horizontal accuracy within +/- 5 meters\nof reference digital ortho quarter quads (DOQQ's) from\nthe National Digital Ortho Program (NDOP) or from the\nNational Agriculture Imagery Program (NAIP); 1 meter\nor 1/2 meter GSD ortho imagery rectified within +/- 6\nmeters to true ground. The tiling format of NAIP imagery is\nbased on a 3.75' x 3.75' quarter quadrangle with a 300\npixel buffer on all four sides. The NAIP imagery is\nformatted to the UTM coordinate system using the North\nAmerican Datum of 1983 (NAD83). The NAIP imagery may\ncontain as much as 10% cloud cover per tile. This file\nwas generated by compressing NAIP imagery that cover\nthe county extent. Two types of compression may be\nused for NAIP imagery: MrSID and JPEG 2000. The target\nvalue for the compression ratio is (15:1) for the 1 meter\nimagery and 60:1 for the 1/2 meter imagery.",
 "extent": {
  "xmin": 244283,
  "ymin": 4111663,
  "xmax": 290184,
  "ymax": 4168398,
  "spatialReference": {
   "wkid": 26916,
   "latestWkid": 26916
  }
 },
 "initialExtent": {
  "xmin": 244283,
  "ymin": 4111663,
  "xmax": 290184,
  "ymax": 4168398,
  "spatialReference": {
   "wkid": 26916,
   "latestWkid": 26916
  }
 },
 "fullExtent": {
  "xmin": 244283,
  "ymin": 4111663,
  "xmax": 290184,
  "ymax": 4168398,
  "spatialReference": {
   "wkid": 26916,
   "latestWkid": 26916
  }
 },
 "pixelSizeX": 1,
 "pixelSizeY": 1,
 "bandCount": 3,
 "pixelType": "U8",
 "minPixelSize": 0,
 "maxPixelSize": 0,
 "copyrightText": "",
 "serviceDataType": "esriImageServiceDataTypeRGB",
 "minValues": [
  0,
  0,
  0
 ],
 "maxValues": [
  211,
  202,
  186
 ],
 "meanValues": [
  81.990079365079,
  97.175,
  71.512698412698
 ],
 "stdvValues": [
  41.828337550229,
  45.774359570043,
  34.835552410809
 ],
 "objectIdField": "",
 "fields": [],
 "capabilities": "Image,Metadata,Mensuration",
 "defaultMosaicMethod": "Center",
 "allowedMosaicMethods": "",
 "sortField": "",
 "sortValue": null,
 "sortAscending": true,
 "mosaicOperator": "First",
 "defaultCompressionQuality": 75,
 "defaultResamplingMethod": "Bilinear",
 "maxImageHeight": 4100,
 "maxImageWidth": 15000,
 "allowRasterFunction": true,
 "rasterFunctionInfos": [
  {
   "name": "None",
   "description": "",
   "help": ""
  }
 ],
 "rasterTypeInfos": [
  {
   "name": "Raster Dataset",
   "description": "Supports all ArcGIS Raster Datasets",
   "help": ""
  }
 ],
 "mensurationCapabilities": "Basic",
 "hasHistograms": true,
 "hasColormap": false,
 "hasRasterAttributeTable": false,
 "minScale": 0,
 "maxScale": 0,
 "exportTilesAllowed": false,
 "hasMultidimensions": false,
 "supportsStatistics": false,
 "supportsAdvancedQueries": false,
 "editFieldsInfo": null,
 "ownershipBasedAccessControlForRasters": null,
 "allowComputeTiePoints": false,
 "useStandardizedQueries": true,
 "advancedQueryCapabilities": {
  "useStandardizedQueries": true,
  "supportsStatistics": false,
  "supportsOrderBy": false,
  "supportsDistinct": false,
  "supportsPagination": false
 },
 "spatialReference": {
  "wkid": 26916,
  "latestWkid": 26916
 }
}
