{
 "currentVersion": 10.81,
 "serviceDescription": "Arbyrd Mo Imagery",
 "mapName": "Layers",
 "description": "",
 "copyrightText": "",
 "supportsDynamicLayers": true,
 "layers": [
  {
   "id": 0,
   "name": "ArbyrdMo2007",
   "parentLayerId": -1,
   "defaultVisibility": true,
   "subLayerIds": null,
   "minScale": 0,
   "maxScale": 0,
   "type": "Raster Layer"
  }
 ],
 "tables": [],
 "spatialReference": {
  "wkid": 102696,
  "latestWkid": 102696
 },
 "singleFusedMapCache": true,
 "tileInfo": {
  "rows": 256,
  "cols": 256,
  "dpi": 96,
  "format": "MIXED",
  "compressionQuality": 75,
  "origin": {
   "x": -17627100,
   "y": 19798600
  },
  "spatialReference": {
   "wkid": 102696,
   "latestWkid": 102696
  },
  "lods": [
   {
    "level": 0,
    "resolution": 108.50694444444444,
    "scale": 125000
   },
   {
    "level": 1,
    "resolution": 55.55555555555555,
    "scale": 64000
   },
   {
    "level": 2,
    "resolution": 27.777777777777775,
    "scale": 32000
   },
   {
    "level": 3,
    "resolution": 13.888888888888888,
    "scale": 16000
   },
   {
    "level": 4,
    "resolution": 6.944444444444444,
    "scale": 8000
   },
   {
    "level": 5,
    "resolution": 3.472222222222222,
    "scale": 4000
   },
   {
    "level": 6,
    "resolution": 1.736111111111111,
    "scale": 2000
   }
  ]
 },
 "initialExtent": {
  "xmin": 878790.2517102474,
  "ymin": 76173.8839081136,
  "xmax": 947331.9183769141,
  "ymax": 110965.55057478031,
  "spatialReference": {
   "wkid": 102696,
   "latestWkid": 102696
  }
 },
 "fullExtent": {
  "xmin": 892196.7091974613,
  "ymin": 59137.30362192268,
  "xmax": 932978.1236974611,
  "ymax": 108009.25312192236,
  "spatialReference": {
   "wkid": 102696,
   "latestWkid": 102696
  }
 },
 "minScale": 125000,
 "maxScale": 2000,
 "units": "esriFeet",
 "supportedImageFormatTypes": "PNG32,PNG24,PNG,JPG,DIB,TIFF,EMF,PS,PDF,GIF,SVG,SVGZ,BMP",
 "documentInfo": {
  "Title": "Arbyrd Mo Imagery",
  "Author": "APS",
  "Comments": "Arbyrd Mo Imagery",
  "Subject": "Arbyrd Mo Imagery",
  "Category": "",
  "AntialiasingMode": "None",
  "TextAntialiasingMode": "Force",
  "Keywords": ""
 },
 "capabilities": "Map,Query,Data",
 "supportedQueryFormats": "JSON, geoJSON",
 "exportTilesAllowed": true,
 "maxExportTilesCount": 100000,
 "referenceScale": 0,
 "supportsDatumTransformation": true,
 "maxRecordCount": 1000,
 "maxImageHeight": 4096,
 "maxImageWidth": 4096,
 "supportedExtensions": ""
}
