<?xml version="1.0" encoding="UTF-8" standalone="no"?>
<metadata>
<idinfo>
<citation>
<citeinfo>
<origin>U.S. Geological Survey</origin>
<pubdate>May 2008</pubdate>
<title>MO 2007_08 Arbyrd 2 Foot Mosaic (SID)</title>
<geoform Sync="TRUE">raster digital data</geoform>
<pubinfo>
<pubplace> Chesterfield, MO	</pubplace>
<publish>	Surdex Corporation	</publish>
</pubinfo>
<ftname Sync="TRUE">3609063.sid</ftname>
<onlink>ftp://msdis.missouri.edu/pub/Imagery_Base_Maps/state_2ft/quad/MO_2007_08_poplarbluffe_24k_36090A2_sid.zip</onlink>
</citeinfo>
</citation>
<descript>
<abstract>This data set is a USGS Quadrangle mosaic of DOQQ images from the 2007 Missouri State Leaf-Off Imagery Program. A Digital Orthophoto Quarter-Quadrangle (DOQQ) is a raster image in which displacement in the image caused by sensor orientation and terrain relief has been removed. An orthophoto combines the image characteristics of a photograph with the geometric qualities of a map. The geographic extent of the DOQQ is equivalent to a quarter of a 7.5-minute map (3.75 minutes of latitude and longitude) with overedge. The overedge ranges from a minimum of 50 meters to a maximum of 300 meters beyond the extremes of the NAD83 datum 3.75-minute latitude and longitude boundaries. DOQQs are produced with a 0.6 meter ground sample distance (GSD) and are cast on the Universal Transverse Mercator (UTM) projection on the North American Datum of 1983 (NAD83). The DOQQs will meet an accuracy of 3-meter diagonal Root Mean Square Error (2.12m RMSE X or Y). The raw images in GeoTIFF format were encoded to MrSID Generation III images using a 15:1 compression ratio.</abstract>
<purpose>
This data depicts geographic features on the surface of the earth. GeoTIFF DOQQs serve a variety of purposes, from interim base maps to field references for earth science investigations and analysis. The GeoTIFF DOQQ is useful as a layer in a geographic information system (GIS) and as a tool for performing digital map revision and reference. DOQQs form the medium-resolution image base for The National Map.
</purpose>
<langdata Sync="TRUE">en</langdata>
</descript>
<timeperd>
<timeinfo>
<sngdate>
<caldate>winter/spring 2007</caldate>
</sngdate>
</timeinfo>
<current>	ground condition </current>
</timeperd>
<status>
<progress> Complete </progress>
<update> Unknown </update>
</status>
<spdom>
<bounding>
<westbc Sync="TRUE">-90.256631</westbc>
<eastbc Sync="TRUE">-90.118148</eastbc>
<northbc Sync="TRUE">36.129795</northbc>
<southbc Sync="TRUE">35.995204</southbc>
</bounding>
<lboundng>
<leftbc Sync="TRUE">747288.000000</leftbc>
<rightbc Sync="TRUE">759352.200000</rightbc>
<bottombc Sync="TRUE">3987245.400000</bottombc>
<topbc Sync="TRUE">4001842.800000</topbc>
</lboundng>
</spdom>
<keywords>
<theme>
<themekt>	None </themekt>
<themekey> GeoTIFF DOQQ	</themekey>
<themekey>digital orthophoto</themekey>
<themekey>county mosaic</themekey>
<themekey>rectified photograph</themekey>
<themekey>rectified image</themekey>
<themekey>0.60 meter orthophoto</themekey>
<themekey>Color GeoTIFF DOQQ</themekey>
<themekey>Color Orthophoto</themekey>
<themekey>Leaf-off imagery</themekey>
<themekey>DOQ</themekey>
<themekey>imageryBaseMapsEarthCover</themekey>
<themekey>Arbyrd</themekey>
</theme>
<place>
<placekt>
U.S. Department of Commerce, 1995, Countries, dependencies, areas of special sovereignty, and their principal administrative divisions, Federal Information Processing Standard (FIPS) 10-4): Washington, D.C., National Institute of Standards and Technology.
</placekt>
<placekey> US	</placekey>
<placekey>Missouri</placekey>
</place>
<place>
<placekey>Arbyrd</placekey>
<placekey>3609063</placekey>
</place>
</keywords>
<accconst> none	</accconst>
<useconst>
None. However, users should be aware that temporal changes may have occurred since this data set was collected and that some parts of this data may no longer represent actual surface conditions. Users should not use this data for critical applications without a full awareness of it's limitations. Acknowledgment of the U.S. Geological Survey would be appreciated for products derived from these data.
</useconst>
<datacred>
The State of Missouri and the U.S. Geological Survey provided funding and services for the collection and production of these data.
</datacred>
<native Sync="FALSE">ESRI ArcCatalog 9.2.4.1420</native>
<ptcontac>
<cntinfo>
<cntorgp>
<cntorg>Missouri Spatial Data Information Service</cntorg>
</cntorgp>
<cntvoice>573-882-6734</cntvoice>
<cntemail>msdismail@missouri.edu</cntemail>
</cntinfo>
</ptcontac>
<natvform Sync="TRUE">Raster Dataset</natvform>
<secinfo>
<secclass>Unclassified</secclass>
</secinfo>
</idinfo>
<dataqual>
<attracc>
<attraccr>
Upon completion of the post processing of the digital camera data, digital dodging is performed to improve image quality. Image brightness values may deviate from the original images. Radiometry is verified by visual inspection of the digital orthophoto. Where possible, radiometry is verified by visual inspection of the digital orthophoto with the original unrectified image. Slight systematic radiometric differences may exist between adjacent orthoimage files; these are due primarily to differences in source image capture dates and sun angles along flight lines. These differences can be observed in an image's general lightness or darkness when it is compared to adjacent orthoimage files. Tonal balancing may be performed over a group of images during the mosaicking process which may serve to lighten or darken adjacent images for better color tone matching.
</attraccr>
</attracc>
<logic>
All GeoTIFF tagged data and image file sizes are derived from a digital orthophoto database created for this project. This validation procedure ensures correct physical format and field values for tagged elements. </logic>
<complete>
Orthorectified images are visually inspected and automatically verified for completeness to ensure that no gaps or image misplacements exist within the 3.75-minute image area or the overedge coverage. DOQQs are produced from leaf-off, cloud-free imagery. DOQQs are produced with overedge coverage, ranging from a minimum of 50 meters to a maximum of 300 meters beyond the extremes of the NAD83 datum 3.75-minute latitude and longitude boundaries. The resulting DOQQ is a rectangle whose size may vary in relation to adjoining DOQQs.
</complete>
<posacc>
<horizpa>
<horizpar>
The DOQQ horizontal positional accuracy and the assurance of that accuracy depend, in part, on the accuracy of the data inputs to the rectification process (elevation data, aerotriangulation control and methods, camera calibration, scanner calibration, and source imagery parameters). Surdex Corporation collected approximately 50 field control points and used them as validation check points in both the aerotriangulation and orthorectification processes.
</horizpar>
<qhorizpa>
<horizpav>3.0</horizpav>
<horizpae>	FGDC-STD-007.3-1998, Part 3: National Standard for Spatial Data Accuracy </horizpae>
</qhorizpa>
</horizpa>
</posacc>
<lineage>
<srcinfo>
<srccite>
<citeinfo>
<origin>U.S. Geological Survey</origin>
<pubdate>1998</pubdate>
<title>NAPP 10807 19</title>
<geoform>remote-sensing image</geoform>
</citeinfo>
</srccite>
<srcscale> 50800 </srcscale>
<typesrc>digital tape media</typesrc>
<srctime>
<timeinfo>
<sngdate>
<caldate> 20070402</caldate>
</sngdate>
</timeinfo>
<srccurr>ground condition</srccurr>
</srctime>
<srccitea> PHOTO </srccitea>
<srccontr>
Digital color aerial photography flown at 20,000 feet above average ground elevation. Provides the imagery for the digital orthoimage.
</srccontr>
</srcinfo>
<srcinfo>
<srccite>
<citeinfo>
<origin> Surdex Corporation </origin>
<pubdate> Unknown </pubdate>
<title> 2007 Missouri Statewide Digital Orthophoto Program </title>
<geoform> raster digital data </geoform>
</citeinfo>
</srccite>
<typesrc>disc</typesrc>
<srctime>
<timeinfo>
<sngdate>
<caldate>	2007 </caldate>
</sngdate>
</timeinfo>
<srccurr>ground condition</srccurr>
</srctime>
<srccitea> Orthophoto </srccitea>
<srccontr>
Elevation data at a 10 meter posting used to provide ground elevations for orthorectification process.
</srccontr>
</srcinfo>
<srcinfo>
<srccite>
<citeinfo>
<origin>State of Missouri</origin>
<pubdate>Unpublished material</pubdate>
<title>	Digital Elevation Model	</title>
</citeinfo>
</srccite>
<typesrc>disc</typesrc>
<srctime>
<timeinfo>
<sngdate>
<caldate>	Unknown	</caldate>
</sngdate>
</timeinfo>
<srccurr>ground condition</srccurr>
</srctime>
<srccitea> DEM </srccitea>
<srccontr>
Airborne GPS positions were computed by Surdex and used as control in the aerotriangulation process. Survey check points acquired in the field were used as check points against the Airborne GPS to ensure stated accuracy specifications.
</srccontr>
</srcinfo>
<srcinfo>
<srccite>
<citeinfo>
<origin> Surdex Corporation</origin>
<pubdate> Unpublished material</pubdate>
<title>	Aerotriangulation Ground Control</title>
</citeinfo>
</srccite>
<typesrc>disc</typesrc>
<srctime>
<timeinfo>
<sngdate>
<caldate>200705</caldate>
</sngdate>
</timeinfo>
<srccurr>ground condition</srccurr>
</srctime>
<srccitea> ATCONTROL </srccitea>
<srccontr>
Aerotriangulation provides the exterior orientation parameters ( X, Y, Z, omega, phi, kappa) for input to the orthorectification process.
</srccontr>
</srcinfo>
<procstep>
<procdesc>
The rectification process requires, as input, a digital elevation model (DEM) gridded to user-specified bounds, a scanned digital image file and external orientation parameters for the aerial photograph which are typically derived from aerotriangulation (ATCONTROL). Each image was processed from a digital camera to approximately a 0.6 meter ground sample distance. The raw images, Airborne GPS data, and camera calibration data were used as inputs to the aerotriangulation program to generate the exposure station exterior orientations used to rectify the orthophotos. The external orientation parameters derived from the aerotriangulation solution were used to provide the horizontal control for each photograph. Vertical control for the orthorectification process was obtained from existing Digital Elevation Models (DEM) supplied by the State of Missouri. During the orthorectification process, elevation data were extracted and resampled to meet user-specified intervals and bounds.
Each DOQQ was produced by mosaicking multiple images. Tonal balancing was performed across mosaic lines to provide a more naturally appearing final product. The orthorectified imagery is resampled to a 0.6 meter ground resolution with a nominal ground extent of 3.75 minutes in latitude and in longitude. Up to 300 meters of overedge coverage beyond the extreme latitude and longitude corners is included in the image.
Orthorectification was performed using software developed by Surdex Corporation. Resampling to 0.6 meter GSD was done using cubic convolution. All orthoimages are individually inspected for content, misalignments along mosaic seamlines, and void areas. Digital image dodging or enhancement was performed. Source information was collected and verified manually during the production process.
</procdesc>
<procdate> 200706 </procdate>
</procstep>
<procstep>
<procdesc Sync="TRUE">Dataset copied.</procdesc>
<srcused Sync="FALSE">withheld</srcused>
<date Sync="TRUE">20080514</date>
<time Sync="TRUE">11213400</time>
</procstep>
<procstep>
<procdesc>MrSID County Mosaics built</procdesc>
<procsv>GeoExpress 7</procsv>
<procdate>May 2008</procdate>
</procstep>
<procstep>
<procdesc Sync="TRUE">Metadata imported.</procdesc>
<srcused Sync="FALSE">withheld</srcused>
<date Sync="TRUE">20080523</date>
<time Sync="TRUE">15511500</time>
</procstep>
</lineage>
</dataqual>
<spdoinfo>
<direct Sync="TRUE">Raster</direct>
<rastinfo>
<rasttype Sync="TRUE">Pixel</rasttype>
<rowcount Sync="TRUE">24827</rowcount>
<colcount Sync="TRUE">20717</colcount>
<rastxsz Sync="TRUE">1.968500</rastxsz>
<rastysz Sync="TRUE">1.968500</rastysz>
<rastbpp Sync="TRUE">8</rastbpp>
<vrtcount Sync="TRUE">1</vrtcount>
<rastorig Sync="TRUE">Upper Left</rastorig>
<rastcmap Sync="TRUE">FALSE</rastcmap>
<rastcomp Sync="TRUE">LZ77</rastcomp>
<rastband Sync="TRUE">3</rastband>
<rastdtyp Sync="TRUE">pixel codes</rastdtyp>
<rastifor Sync="TRUE">FGDBR</rastifor>
<rastplyr Sync="TRUE">TRUE</rastplyr>
</rastinfo>
</spdoinfo>
<spref>
<horizsys>
<planar>
<planci>
<plance Sync="TRUE">row and column</plance>
<coordrep>
<absres Sync="TRUE">1.968500</absres>
<ordres Sync="TRUE">1.968500</ordres>
</coordrep>
<plandu Sync="TRUE">meters</plandu>
</planci>
</planar>
<geodetic>
<horizdn Sync="TRUE">North American Datum of 1983</horizdn>
<ellips Sync="TRUE">Geodetic Reference System 80</ellips>
<semiaxis Sync="TRUE">6378137.000000</semiaxis>
<denflat Sync="TRUE">298.257222</denflat>
</geodetic>
<cordsysn>
<geogcsn Sync="TRUE">GCS_North_American_1983</geogcsn>
<projcsn Sync="TRUE">NAD_1983_UTM_Zone_15N</projcsn>
</cordsysn>
</horizsys>
</spref>
<eainfo>
<overview>
<eaover>Color orthoimagery is organized in three color bands or channels which represent the red, green, and blue (RGB) portions of the spectrum. Each image pixel is assigned a triplet of numeric values, one for each color band. Numeric values range from 0 to 255.</eaover>
<eadetcit>U.S. Department of the Interior, U.S. Geological Survey, 1996, Standards for Digital Orthophotos: Reston, VA.</eadetcit>
</overview>
</eainfo>
<metainfo>
<metd Sync="TRUE">20080523</metd>
<metc>
<cntinfo>
<cntorgp>
<cntorg>U.S. Geological Survey</cntorg>
<cntper>REQUIRED: The person responsible for the metadata information.</cntper>
</cntorgp>
<cntaddr>
<addrtype>mailing</addrtype>
<address>Customer Services</address>
<address>U.S. Geological Survey</address>
<address>EROS Data Center</address>
<address>47914 252nd Street</address>
<city>Sioux Falls</city>
<state>SD</state>
<postal>57198-0001</postal>
<country>US</country>
</cntaddr>
<cntvoice>1-800-252-4547</cntvoice>
<cnttdd>1-605-594-6933</cnttdd>
<cntfax>1-605-594-6589</cntfax>
<cntemail>custserv@usgs.gov</cntemail>
<hours>Monday through Friday 8:00 AM to 4:00 PM (Central Time)</hours>
<cntinst>The above is the contact information for EROS Data Center in Sioux Falls, SD. This is the digital data storage and distribution center for the USGS. Metadata information can also be obtained through online services using The National Map Viewer, at http:/nationalmap.usgs.gov or EarthExplorer, at http://earthexplorer.usgs.gov.</cntinst>
</cntinfo>
</metc>
<metstdn Sync="TRUE">FGDC Content Standards for Digital Geospatial Metadata</metstdn>
<metstdv Sync="TRUE">FGDC-STD-001-1998</metstdv>
<langmeta Sync="TRUE">en</langmeta>
<mettc Sync="TRUE">local time</mettc>
</metainfo>
<Esri>
<CreaDate>20080523</CreaDate>
<CreaTime>15511500</CreaTime>
<SyncOnce>FALSE</SyncOnce>
<ModDate>20170728</ModDate>
<ModTime>09404900</ModTime>
<MetaID>{6C0F87E2-5D7A-4BC5-9941-418C8A8D1734}</MetaID>
<SyncDate>20170728</SyncDate>
<SyncTime>09404900</SyncTime>
<DataProperties>
<itemProps>
<itemName Sync="TRUE">ArbyrdMo2007</itemName>
<imsContentType Sync="TRUE">002</imsContentType>
<nativeExtBox>
<westBL Sync="TRUE">892196.709197</westBL>
<eastBL Sync="TRUE">932978.123697</eastBL>
<southBL Sync="TRUE">59137.303622</southBL>
<northBL Sync="TRUE">108009.253122</northBL>
<exTypeCode Sync="TRUE">1</exTypeCode>
</nativeExtBox>
</itemProps>
<coordRef>
<type Sync="TRUE">Projected</type>
<geogcsn Sync="TRUE">GCS_North_American_1983</geogcsn>
<csUnits Sync="TRUE">Linear Unit: Foot_US (0.304801)</csUnits>
<projcsn Sync="TRUE">NAD_1983_StatePlane_Missouri_East_FIPS_2401_Feet</projcsn>
<peXml Sync="TRUE">&lt;ProjectedCoordinateSystem xsi:type='typens:ProjectedCoordinateSystem' xmlns:xsi='http://www.w3.org/2001/XMLSchema-instance' xmlns:xs='http://www.w3.org/2001/XMLSchema' xmlns:typens='http://www.esri.com/schemas/ArcGIS/10.5'&gt;&lt;WKT&gt;PROJCS[&amp;quot;NAD_1983_StatePlane_Missouri_East_FIPS_2401_Feet&amp;quot;,GEOGCS[&amp;quot;GCS_North_American_1983&amp;quot;,DATUM[&amp;quot;D_North_American_1983&amp;quot;,SPHEROID[&amp;quot;GRS_1980&amp;quot;,6378137.0,298.257222101]],PRIMEM[&amp;quot;Greenwich&amp;quot;,0.0],UNIT[&amp;quot;Degree&amp;quot;,0.0174532925199433]],PROJECTION[&amp;quot;Transverse_Mercator&amp;quot;],PARAMETER[&amp;quot;False_Easting&amp;quot;,820208.3333333333],PARAMETER[&amp;quot;False_Northing&amp;quot;,0.0],PARAMETER[&amp;quot;Central_Meridian&amp;quot;,-90.5],PARAMETER[&amp;quot;Scale_Factor&amp;quot;,0.9999333333333333],PARAMETER[&amp;quot;Latitude_Of_Origin&amp;quot;,35.83333333333334],UNIT[&amp;quot;Foot_US&amp;quot;,0.3048006096012192],AUTHORITY[&amp;quot;Esri&amp;quot;,102696]]&lt;/WKT&gt;&lt;XOrigin&gt;-17627100&lt;/XOrigin&gt;&lt;YOrigin&gt;-45827300&lt;/YOrigin&gt;&lt;XYScale&gt;137250677.77723414&lt;/XYScale&gt;&lt;ZOrigin&gt;-100000&lt;/ZOrigin&gt;&lt;ZScale&gt;10000&lt;/ZScale&gt;&lt;MOrigin&gt;-100000&lt;/MOrigin&gt;&lt;MScale&gt;10000&lt;/MScale&gt;&lt;XYTolerance&gt;0.0032808333333333331&lt;/XYTolerance&gt;&lt;ZTolerance&gt;0.001&lt;/ZTolerance&gt;&lt;MTolerance&gt;0.001&lt;/MTolerance&gt;&lt;HighPrecision&gt;true&lt;/HighPrecision&gt;&lt;WKID&gt;102696&lt;/WKID&gt;&lt;LatestWKID&gt;102696&lt;/LatestWKID&gt;&lt;/ProjectedCoordinateSystem&gt;</peXml>
</coordRef>
</DataProperties>
</Esri>
<distInfo>
<distributor>
<distorTran>
<onLineSrc>
<linkage Sync="FALSE">withheld</linkage>
<protocol Sync="TRUE">Local Area Network</protocol>
<orDesc Sync="TRUE">002</orDesc>
</onLineSrc>
</distorTran>
<distorFormat>
<formatName Sync="TRUE">Raster Dataset</formatName>
</distorFormat>
</distributor>
<distFormat>
<formatName Sync="TRUE">File Geodatabase Raster Dataset</formatName>
</distFormat>
</distInfo>
<distinfo>
<stdorder>
<fees>$30/DVD of data</fees>
<ordering>Contact the Missouri Spatial Data Information Service (MSDIS) http://www.msdis.missouri.edu. A link to data ordering will be on the homepage.</ordering>
<turnarnd>1 week</turnarnd>
</stdorder>
<resdesc Sync="TRUE">Downloadable Data</resdesc>
</distinfo>
<mdDateSt Sync="TRUE">20170728</mdDateSt>
<dataIdInfo>
<envirDesc Sync="TRUE"> Version 6.2 (Build 9200) ; Esri ArcGIS 10.5.0.6491</envirDesc>
<dataLang>
<languageCode Sync="TRUE" value="eng">
</languageCode>
<countryCode Sync="TRUE" value="USA">
</countryCode>
</dataLang>
<idCitation>
<resTitle Sync="TRUE">ArbyrdMo2007</resTitle>
<presForm>
<PresFormCd Sync="TRUE" value="011">
</PresFormCd>
</presForm>
</idCitation>
<spatRpType>
<SpatRepTypCd Sync="TRUE" value="002">
</SpatRepTypCd>
</spatRpType>
<dataExt>
<geoEle>
<GeoBndBox esriExtentType="native">
<westBL Sync="TRUE">747288</westBL>
<eastBL Sync="TRUE">759352.2</eastBL>
<northBL Sync="TRUE">4001842.8</northBL>
<southBL Sync="TRUE">3987245.4</southBL>
<exTypeCode Sync="TRUE">1</exTypeCode>
</GeoBndBox>
</geoEle>
</dataExt>
<geoBox esriExtentType="decdegrees">
<westBL Sync="TRUE">-90.256631</westBL>
<eastBL Sync="TRUE">-90.118148</eastBL>
<northBL Sync="TRUE">36.129795</northBL>
<southBL Sync="TRUE">35.995204</southBL>
<exTypeCode Sync="TRUE">1</exTypeCode>
</geoBox>
<dataExt>
<geoEle>
<GeoBndBox esriExtentType="search">
<exTypeCode Sync="TRUE">1</exTypeCode>
<westBL Sync="TRUE">-90.256639</westBL>
<eastBL Sync="TRUE">-90.118129</eastBL>
<northBL Sync="TRUE">36.129804</northBL>
<southBL Sync="TRUE">35.995189</southBL>
</GeoBndBox>
</geoEle>
</dataExt>
<idAbs>This data set is a USGS Quadrangle mosaic of DOQQ images from the 2007 Missouri State Leaf-Off Imagery Program. A Digital Orthophoto Quarter-Quadrangle (DOQQ) is a raster image in which displacement in the image caused by sensor orientation and terrain relief has been removed. An orthophoto combines the image characteristics of a photograph with the geometric qualities of a map. The geographic extent of the DOQQ is equivalent to a quarter of a 7.5-minute map (3.75 minutes of latitude and longitude) with overedge. The overedge ranges from a minimum of 50 meters to a maximum of 300 meters beyond the extremes of the NAD83 datum 3.75-minute latitude and longitude boundaries. DOQQs are produced with a 0.6 meter ground sample distance (GSD) and are cast on the Universal Transverse Mercator (UTM) projection on the North American Datum of 1983 (NAD83). The DOQQs will meet an accuracy of 3-meter diagonal Root Mean Square Error (2.12m RMSE X or Y). The raw images in GeoTIFF format were encoded to MrSID Generation III images using a 15:1 compression ratio.</idAbs>
<searchKeys>
<keyword>US</keyword>
<keyword>Missouri</keyword>
<keyword>Arbyrd</keyword>
<keyword>3609063</keyword>
<keyword>GeoTIFF DOQQ</keyword>
<keyword>digital orthophoto</keyword>
<keyword>county mosaic</keyword>
<keyword>rectified photograph</keyword>
<keyword>rectified image</keyword>
<keyword>0.60 meter orthophoto</keyword>
<keyword>Color GeoTIFF DOQQ</keyword>
<keyword>Color Orthophoto</keyword>
<keyword>Leaf-off imagery</keyword>
<keyword>DOQ</keyword>
<keyword>imageryBaseMapsEarthCover</keyword>
<keyword>Arbyrd</keyword>
</searchKeys>
<idPurp>This data depicts geographic features on the surface of the earth. GeoTIFF DOQQs serve a variety of purposes, from interim base maps to field references for...</idPurp>
<idCredit/>
<resConst>
<Consts>
<useLimit/>
</Consts>
</resConst>
</dataIdInfo>
<mdLang>
<languageCode Sync="TRUE" value="eng">
</languageCode>
<countryCode Sync="TRUE" value="USA">
</countryCode>
</mdLang>
<mdStanName Sync="TRUE">ISO 19115 Geographic Information - Metadata</mdStanName>
<mdStanVer Sync="TRUE">DIS_ESRI1.0</mdStanVer>
<mdChar>
<CharSetCd Sync="TRUE" value="004">
</CharSetCd>
</mdChar>
<mdHrLv>
<ScopeCd Sync="TRUE" value="005">
</ScopeCd>
</mdHrLv>
<mdHrLvName Sync="TRUE">dataset</mdHrLvName>
<refSysInfo>
<RefSystem>
<refSysID>
<identCode Sync="TRUE" code="102696">NAD_1983_UTM_Zone_15N</identCode>
<idCodeSpace Sync="TRUE">Esri</idCodeSpace>
<idVersion Sync="TRUE">8.0.1</idVersion>
</refSysID>
</RefSystem>
</refSysInfo>
</metadata>
